FILENAME: O4710550.SWS.1165053.tif
QUADRANGLE_NAME: WATKINS
QUADRANT: SW
WEST_LONGITUDE: -105 52 30.00000
EAST_LONGITUDE: -105 48 45.00000
NORTH_LATITUDE: 47 11 15.00000
SOUTH_LATITUDE: 47 7 30.00000
PRODUCTION_DATE: 2001 10 5
RASTER_ORDER: LEFT_RIGHT/TOP_BOTTOM
BAND_ORGANIZATION: SINGLE FILE
BAND_CONTENT: BLACK&WHITE
BAND_CONTENT: UNDEFINED
BAND_CONTENT: UNDEFINED
BITS_PER_PIXEL: 8
SAMPLES_AND_LINES: 5467 7608
HORIZONTAL_DATUM: NAD83
HORIZONTAL_COORDINATE_SYSTEM: UTM
COORDINATE_ZONE: 13
HORIZONTAL_UNITS: meters
HORIZONTAL_RESOLUTION: 1.00000
SECONDARY_HORIZONTAL_DATUM: NAD27
XY_ORIGIN: 433284.00000 5226678.00000
SECONDARY_XY_ORIGIN: 433325.18500 5226458.48800
NATION: US
STATE: MT
NW_QUAD_CORNER_XY: 433710.89100 5226371.98000
NE_QUAD_CORNER_XY: 438445.80300 5226320.82500
SE_QUAD_CORNERY_XY: 438373.58200 5219375.28800
SW_QUAD_CORNER_XY: 433633.11400 5219426.45100
SECONDARY_NW_QUAD_XY: 433708.84000 5226153.37500
SECONDARY_NE_QUAD_XY: 438443.89800 5226102.21900
SECONDARY_SE_QUAD_XY: 438371.67700 5219156.70800
SECONDARY_SW_QUAD_XY: 433631.06300 5219207.87300
RMSE_XY: 2.33000
IMAGE_SOURCE: BLACK AND WHITE FILM
SOURCE_IMAGE_ID: NAPP 10766-156
SOURCE_IMAGE_DATE: 1998 7 10
SOURCE_DEM_DATE: 1999 0 0
AGENCY: WESTERN MAPPING CENTER (WMC)
PRODUCER: WOOLPERT LLP
PRODUCTION_SYSTEM: INTERGRAPH ISPM, ISIR
COMPRESSION: UNDEFINED
STANDARD_VERSION: 1996 12
METADATA_DATE: 2001 10 5
DATA_FILE_SIZE: 41598403
BYTE_COUNT: 5467
