FILENAME: O4710549.NWS.1165039.tif
QUADRANGLE_NAME: BERRY SCHOOL
QUADRANT: NW
WEST_LONGITUDE: -106 0 0.00000
EAST_LONGITUDE: -105 56 15.00000
NORTH_LATITUDE: 47 15 0.00000
SOUTH_LATITUDE: 47 11 15.00000
PRODUCTION_DATE: 2001 10 8
RASTER_ORDER: LEFT_RIGHT/TOP_BOTTOM
BAND_ORGANIZATION: SINGLE FILE
BAND_CONTENT: BLACK&WHITE
BAND_CONTENT: UNDEFINED
BAND_CONTENT: UNDEFINED
BITS_PER_PIXEL: 8
SAMPLES_AND_LINES: 5473 7616
HORIZONTAL_DATUM: NAD83
HORIZONTAL_COORDINATE_SYSTEM: UTM
COORDINATE_ZONE: 13
HORIZONTAL_UNITS: meters
HORIZONTAL_RESOLUTION: 1.00000
SECONDARY_HORIZONTAL_DATUM: NAD27
XY_ORIGIN: 423892.00000 5233737.00000
SECONDARY_XY_ORIGIN: 423933.34200 5233517.64300
NATION: US
STATE: MT
NW_QUAD_CORNER_XY: 424330.06700 5233431.24200
NE_QUAD_CORNER_XY: 429059.40400 5233372.51800
SE_QUAD_CORNERY_XY: 428975.98600 5226426.92400
SW_QUAD_CORNER_XY: 424241.08600 5226485.65800
SECONDARY_NW_QUAD_XY: 424327.72300 5233212.61600
SECONDARY_NE_QUAD_XY: 429057.20700 5233153.89000
SECONDARY_SE_QUAD_XY: 428973.78800 5226208.32100
SECONDARY_SW_QUAD_XY: 424238.74200 5226267.05700
RMSE_XY: 2.70000
IMAGE_SOURCE: BLACK AND WHITE FILM
SOURCE_IMAGE_ID: NAPP 9088-181
SOURCE_IMAGE_DATE: 1996 7 7
SOURCE_DEM_DATE: 1999 0 0
AGENCY: WESTERN MAPPING CENTER (WMC)
PRODUCER: WOOLPERT LLP
PRODUCTION_SYSTEM: INTERGRAPH ISPM, ISIR
COMPRESSION: UNDEFINED
STANDARD_VERSION: 1996 12
METADATA_DATE: 2001 10 8
DATA_FILE_SIZE: 41687841
BYTE_COUNT: 5473
