FILENAME: O4710549.SES.1165040.tif
QUADRANGLE_NAME: BERRY SCHOOL
QUADRANT: SE
WEST_LONGITUDE: -105 56 15.00000
EAST_LONGITUDE: -105 52 30.00000
NORTH_LATITUDE: 47 11 15.00000
SOUTH_LATITUDE: 47 7 30.00000
PRODUCTION_DATE: 2001 10 8
RASTER_ORDER: LEFT_RIGHT/TOP_BOTTOM
BAND_ORGANIZATION: SINGLE FILE
BAND_CONTENT: BLACK&WHITE
BAND_CONTENT: UNDEFINED
BAND_CONTENT: UNDEFINED
BITS_PER_PIXEL: 8
SAMPLES_AND_LINES: 5472 7612
HORIZONTAL_DATUM: NAD83
HORIZONTAL_COORDINATE_SYSTEM: UTM
COORDINATE_ZONE: 13
HORIZONTAL_UNITS: meters
HORIZONTAL_RESOLUTION: 1.00000
SECONDARY_HORIZONTAL_DATUM: NAD27
XY_ORIGIN: 428544.00000 5226733.00000
SECONDARY_XY_ORIGIN: 428585.30000 5226513.55000
NATION: US
STATE: MT
NW_QUAD_CORNER_XY: 428975.98600 5226426.92400
NE_QUAD_CORNER_XY: 433710.89100 5226371.98000
SE_QUAD_CORNERY_XY: 433633.11400 5219426.45100
SW_QUAD_CORNER_XY: 428892.65200 5219481.40400
SECONDARY_NW_QUAD_XY: 428973.78800 5226208.32100
SECONDARY_NE_QUAD_XY: 433708.84000 5226153.37500
SECONDARY_SE_QUAD_XY: 433631.06300 5219207.87300
SECONDARY_SW_QUAD_XY: 428890.45400 5219262.82700
RMSE_XY: 2.65000
IMAGE_SOURCE: BLACK AND WHITE FILM
SOURCE_IMAGE_ID: NAPP 9088-079
SOURCE_IMAGE_DATE: 1996 7 7
SOURCE_DEM_DATE: 1999 0 0
AGENCY: WESTERN MAPPING CENTER (WMC)
PRODUCER: WOOLPERT LLP
PRODUCTION_SYSTEM: INTERGRAPH ISPM, ISIR
COMPRESSION: UNDEFINED
STANDARD_VERSION: 1996 12
METADATA_DATE: 2001 10 8
DATA_FILE_SIZE: 41658336
BYTE_COUNT: 5472
