FILENAME: O4710548.NWS.1165320.tif
QUADRANGLE_NAME: JOHNSON RESERVOIR
QUADRANT: NW
WEST_LONGITUDE: -105 7 30.00000
EAST_LONGITUDE: -105 3 45.00000
NORTH_LATITUDE: 47 22 30.00000
SOUTH_LATITUDE: 47 18 45.00000
PRODUCTION_DATE: 2001 9 27
RASTER_ORDER: LEFT_RIGHT/TOP_BOTTOM
BAND_ORGANIZATION: SINGLE FILE
BAND_CONTENT: BLACK&WHITE
BAND_CONTENT: UNDEFINED
BAND_CONTENT: UNDEFINED
BITS_PER_PIXEL: 8
SAMPLES_AND_LINES: 5381 7564
HORIZONTAL_DATUM: NAD83
HORIZONTAL_COORDINATE_SYSTEM: UTM
COORDINATE_ZONE: 13
HORIZONTAL_UNITS: meters
HORIZONTAL_RESOLUTION: 1.00000
SECONDARY_HORIZONTAL_DATUM: NAD27
XY_ORIGIN: 490206.00000 5247152.00000
SECONDARY_XY_ORIGIN: 490246.04400 5246931.90300
NATION: US
STATE: MT
NW_QUAD_CORNER_XY: 490563.49900 5246845.44500
NE_QUAD_CORNER_XY: 495281.74900 5246839.76400
SE_QUAD_CORNERY_XY: 495276.17700 5239893.94700
SW_QUAD_CORNER_XY: 490552.35500 5239899.62900
SECONDARY_NW_QUAD_XY: 490563.20600 5246626.75500
SECONDARY_NE_QUAD_XY: 495281.60300 5246621.07400
SECONDARY_SE_QUAD_XY: 495276.03100 5239675.28100
SECONDARY_SW_QUAD_XY: 490552.06200 5239680.96300
RMSE_XY: 2.45000
IMAGE_SOURCE: BLACK AND WHITE FILM
SOURCE_IMAGE_ID: NAPP 9103-156
SOURCE_IMAGE_DATE: 1996 7 15
SOURCE_DEM_DATE: 1999 0 0
AGENCY: WESTERN MAPPING CENTER (WMC)
PRODUCER: WOOLPERT LLP
PRODUCTION_SYSTEM: INTERGRAPH ISPM, ISIR
COMPRESSION: UNDEFINED
STANDARD_VERSION: 1996 12
METADATA_DATE: 2001 9 27
DATA_FILE_SIZE: 40707265
BYTE_COUNT: 5381
