FILENAME: O4710548.SWS.1165322.tif
QUADRANGLE_NAME: JOHNSON RESERVOIR
QUADRANT: SW
WEST_LONGITUDE: -105 7 30.00000
EAST_LONGITUDE: -105 3 45.00000
NORTH_LATITUDE: 47 18 45.00000
SOUTH_LATITUDE: 47 15 0.00000
PRODUCTION_DATE: 2001 9 27
RASTER_ORDER: LEFT_RIGHT/TOP_BOTTOM
BAND_ORGANIZATION: SINGLE FILE
BAND_CONTENT: BLACK&WHITE
BAND_CONTENT: UNDEFINED
BAND_CONTENT: UNDEFINED
BITS_PER_PIXEL: 8
SAMPLES_AND_LINES: 5387 7563
HORIZONTAL_DATUM: NAD83
HORIZONTAL_COORDINATE_SYSTEM: UTM
COORDINATE_ZONE: 13
HORIZONTAL_UNITS: meters
HORIZONTAL_RESOLUTION: 1.00000
SECONDARY_HORIZONTAL_DATUM: NAD27
XY_ORIGIN: 490195.00000 5240206.00000
SECONDARY_XY_ORIGIN: 490235.09800 5239985.97700
NATION: US
STATE: MT
NW_QUAD_CORNER_XY: 490552.35500 5239899.62900
NE_QUAD_CORNER_XY: 495276.17700 5239893.94700
SE_QUAD_CORNERY_XY: 495270.61100 5232948.20700
SW_QUAD_CORNER_XY: 490541.22200 5232953.88900
SECONDARY_NW_QUAD_XY: 490552.06200 5239680.96300
SECONDARY_NE_QUAD_XY: 495276.03100 5239675.28100
SECONDARY_SE_QUAD_XY: 495270.46400 5232729.56500
SECONDARY_SW_QUAD_XY: 490540.92900 5232735.24800
RMSE_XY: 2.50000
IMAGE_SOURCE: BLACK AND WHITE FILM
SOURCE_IMAGE_ID: NAPP 9103-158
SOURCE_IMAGE_DATE: 1996 7 15
SOURCE_IMAGE_ID: NAPP 9103-159
SOURCE_IMAGE_DATE: 1996 7 15
SOURCE_DEM_DATE: 1999 0 0
AGENCY: WESTERN MAPPING CENTER (WMC)
PRODUCER: WOOLPERT LLP
PRODUCTION_SYSTEM: INTERGRAPH ISPM, ISIR
COMPRESSION: UNDEFINED
STANDARD_VERSION: 1996 12
METADATA_DATE: 2001 10 9
DATA_FILE_SIZE: 40747268
BYTE_COUNT: 5387
