FILENAME: O4710547.NES.1165307.tif
QUADRANGLE_NAME: DEER CREEK CHURCH
QUADRANT: NE
WEST_LONGITUDE: -105 11 15.00000
EAST_LONGITUDE: -105 7 30.00000
NORTH_LATITUDE: 47 22 30.00000
SOUTH_LATITUDE: 47 18 45.00000
PRODUCTION_DATE: 2001 9 26
RASTER_ORDER: LEFT_RIGHT/TOP_BOTTOM
BAND_ORGANIZATION: SINGLE FILE
BAND_CONTENT: BLACK&WHITE
BAND_CONTENT: UNDEFINED
BAND_CONTENT: UNDEFINED
BITS_PER_PIXEL: 8
SAMPLES_AND_LINES: 5387 7568
HORIZONTAL_DATUM: NAD83
HORIZONTAL_COORDINATE_SYSTEM: UTM
COORDINATE_ZONE: 13
HORIZONTAL_UNITS: meters
HORIZONTAL_RESOLUTION: 1.00000
SECONDARY_HORIZONTAL_DATUM: NAD27
XY_ORIGIN: 485482.00000 5247162.00000
SECONDARY_XY_ORIGIN: 485522.11400 5246941.91400
NATION: US
STATE: MT
NW_QUAD_CORNER_XY: 485845.25000 5246854.91200
NE_QUAD_CORNER_XY: 490563.49900 5246845.44500
SE_QUAD_CORNERY_XY: 490552.35500 5239899.62900
SW_QUAD_CORNER_XY: 485828.53400 5239909.09800
SECONDARY_NW_QUAD_XY: 485844.81000 5246636.22300
SECONDARY_NE_QUAD_XY: 490563.20600 5246626.75500
SECONDARY_SE_QUAD_XY: 490552.06200 5239680.96300
SECONDARY_SW_QUAD_XY: 485828.09400 5239690.43300
RMSE_XY: 1.97000
IMAGE_SOURCE: BLACK AND WHITE FILM
SOURCE_IMAGE_ID: NAPP 9103-179
SOURCE_IMAGE_DATE: 1996 7 15
SOURCE_IMAGE_ID: NAPP 9103-180
SOURCE_IMAGE_DATE: 1996 7 15
SOURCE_DEM_DATE: 1999 0 0
AGENCY: WESTERN MAPPING CENTER (WMC)
PRODUCER: WOOLPERT LLP
PRODUCTION_SYSTEM: INTERGRAPH ISPM, ISIR
COMPRESSION: UNDEFINED
STANDARD_VERSION: 1996 12
METADATA_DATE: 2001 10 10
DATA_FILE_SIZE: 40774203
BYTE_COUNT: 5387
