FILENAME: O4710545.NES.1165283.tif
QUADRANGLE_NAME: MOUNT ANTELOPE
QUADRANT: NE
WEST_LONGITUDE: -105 26 15.00000
EAST_LONGITUDE: -105 22 30.00000
NORTH_LATITUDE: 47 22 30.00000
SOUTH_LATITUDE: 47 18 45.00000
PRODUCTION_DATE: 2001 9 27
RASTER_ORDER: LEFT_RIGHT/TOP_BOTTOM
BAND_ORGANIZATION: SINGLE FILE
BAND_CONTENT: BLACK&WHITE
BAND_CONTENT: UNDEFINED
BAND_CONTENT: UNDEFINED
BITS_PER_PIXEL: 8
SAMPLES_AND_LINES: 5410 7582
HORIZONTAL_DATUM: NAD83
HORIZONTAL_COORDINATE_SYSTEM: UTM
COORDINATE_ZONE: 13
HORIZONTAL_UNITS: meters
HORIZONTAL_RESOLUTION: 1.00000
SECONDARY_HORIZONTAL_DATUM: NAD27
XY_ORIGIN: 466586.00000 5247237.00000
SECONDARY_XY_ORIGIN: 466626.38700 5247017.01000
NATION: US
STATE: MT
NW_QUAD_CORNER_XY: 466972.27200 5246930.65400
NE_QUAD_CORNER_XY: 471690.51300 5246906.03800
SE_QUAD_CORNERY_XY: 471657.07900 5239960.23200
SW_QUAD_CORNER_XY: 466933.26600 5239984.85300
SECONDARY_NW_QUAD_XY: 466971.24600 5246711.96700
SECONDARY_NE_QUAD_XY: 471689.63300 5246687.35000
SECONDARY_SE_QUAD_XY: 471656.20000 5239741.56900
SECONDARY_SW_QUAD_XY: 466932.24000 5239766.19000
RMSE_XY: 2.58000
IMAGE_SOURCE: BLACK AND WHITE FILM
SOURCE_IMAGE_ID: NAPP 9093-074
SOURCE_IMAGE_DATE: 1996 7 9
SOURCE_IMAGE_ID: NAPP 9116-081
SOURCE_IMAGE_DATE: 1996 8 27
SOURCE_IMAGE_ID: NAPP 9116-080
SOURCE_IMAGE_DATE: 1996 8 27
SOURCE_IMAGE_ID: NAPP 9093-075
SOURCE_IMAGE_DATE: 1996 7 9
SOURCE_IMAGE_ID: NAPP 9093-184
SOURCE_IMAGE_DATE: 1996 7 9
SOURCE_DEM_DATE: 1999 0 0
AGENCY: WESTERN MAPPING CENTER (WMC)
PRODUCER: WOOLPERT LLP
PRODUCTION_SYSTEM: INTERGRAPH ISPM, ISIR
COMPRESSION: UNDEFINED
STANDARD_VERSION: 1996 12
METADATA_DATE: 2001 10 13
DATA_FILE_SIZE: 41024030
BYTE_COUNT: 5410
