FILENAME: O4710545.NWS.1165284.tif
QUADRANGLE_NAME: MOUNT ANTELOPE
QUADRANT: NW
WEST_LONGITUDE: -105 30 0.00000
EAST_LONGITUDE: -105 26 15.00000
NORTH_LATITUDE: 47 22 30.00000
SOUTH_LATITUDE: 47 18 45.00000
PRODUCTION_DATE: 2001 9 27
RASTER_ORDER: LEFT_RIGHT/TOP_BOTTOM
BAND_ORGANIZATION: SINGLE FILE
BAND_CONTENT: BLACK&WHITE
BAND_CONTENT: UNDEFINED
BAND_CONTENT: UNDEFINED
BITS_PER_PIXEL: 8
SAMPLES_AND_LINES: 5416 7587
HORIZONTAL_DATUM: NAD83
HORIZONTAL_COORDINATE_SYSTEM: UTM
COORDINATE_ZONE: 13
HORIZONTAL_UNITS: meters
HORIZONTAL_RESOLUTION: 1.00000
SECONDARY_HORIZONTAL_DATUM: NAD27
XY_ORIGIN: 461862.00000 5247266.00000
SECONDARY_XY_ORIGIN: 461902.45500 5247046.03800
NATION: US
STATE: MT
NW_QUAD_CORNER_XY: 462254.03400 5246959.05700
NE_QUAD_CORNER_XY: 466972.27200 5246930.65400
SE_QUAD_CORNERY_XY: 466933.26600 5239984.85300
SW_QUAD_CORNER_XY: 462209.45600 5240013.26100
SECONDARY_NW_QUAD_XY: 462252.86100 5246740.37100
SECONDARY_NE_QUAD_XY: 466971.24600 5246711.96700
SECONDARY_SE_QUAD_XY: 466932.24000 5239766.19000
SECONDARY_SW_QUAD_XY: 462208.28300 5239794.59900
RMSE_XY: 2.43000
IMAGE_SOURCE: BLACK AND WHITE FILM
SOURCE_IMAGE_ID: NAPP 9093-183
SOURCE_IMAGE_DATE: 1996 7 9
SOURCE_IMAGE_ID: NAPP 9093-184
SOURCE_IMAGE_DATE: 1996 7 9
SOURCE_IMAGE_ID: NAPP 9093-182
SOURCE_IMAGE_DATE: 1996 7 9
SOURCE_DEM_DATE: 1999 0 0
AGENCY: WESTERN MAPPING CENTER (WMC)
PRODUCER: WOOLPERT LLP
PRODUCTION_SYSTEM: INTERGRAPH ISPM, ISIR
COMPRESSION: UNDEFINED
STANDARD_VERSION: 1996 12
METADATA_DATE: 2001 10 13
DATA_FILE_SIZE: 41096608
BYTE_COUNT: 5416
