FILENAME: O4710544.NES.1165070.tif
QUADRANGLE_NAME: QUICK RESERVOIR
QUADRANT: NE
WEST_LONGITUDE: -105 33 45.00000
EAST_LONGITUDE: -105 30 0.00000
NORTH_LATITUDE: 47 22 30.00000
SOUTH_LATITUDE: 47 18 45.00000
PRODUCTION_DATE: 2001 10 2
RASTER_ORDER: LEFT_RIGHT/TOP_BOTTOM
BAND_ORGANIZATION: SINGLE FILE
BAND_CONTENT: BLACK&WHITE
BAND_CONTENT: UNDEFINED
BAND_CONTENT: UNDEFINED
BITS_PER_PIXEL: 8
SAMPLES_AND_LINES: 5422 7590
HORIZONTAL_DATUM: NAD83
HORIZONTAL_COORDINATE_SYSTEM: UTM
COORDINATE_ZONE: 13
HORIZONTAL_UNITS: meters
HORIZONTAL_RESOLUTION: 1.00000
SECONDARY_HORIZONTAL_DATUM: NAD27
XY_ORIGIN: 457138.00000 5247298.00000
SECONDARY_XY_ORIGIN: 457178.52800 5247078.08400
NATION: US
STATE: MT
NW_QUAD_CORNER_XY: 457535.80000 5246991.24800
NE_QUAD_CORNER_XY: 462254.03400 5246959.05700
SE_QUAD_CORNERY_XY: 462209.45600 5240013.26100
SW_QUAD_CORNER_XY: 457485.64900 5240045.45700
SECONDARY_NW_QUAD_XY: 457534.48100 5246772.56300
SECONDARY_NE_QUAD_XY: 462252.86100 5246740.37100
SECONDARY_SE_QUAD_XY: 462208.28300 5239794.59900
SECONDARY_SW_QUAD_XY: 457484.33000 5239826.79600
RMSE_XY: 2.42000
IMAGE_SOURCE: BLACK AND WHITE FILM
SOURCE_IMAGE_ID: NAPP 9094-035
SOURCE_IMAGE_DATE: 1996 7 9
SOURCE_IMAGE_ID: NAPP 9093-184
SOURCE_IMAGE_DATE: 1996 7 9
SOURCE_IMAGE_ID: NAPP 9093-182
SOURCE_IMAGE_DATE: 1996 7 9
SOURCE_IMAGE_ID: NAPP 9094-145
SOURCE_IMAGE_DATE: 1996 7 9
SOURCE_DEM_DATE: 1999 0 0
AGENCY: WESTERN MAPPING CENTER (WMC)
PRODUCER: WOOLPERT LLP
PRODUCTION_SYSTEM: INTERGRAPH ISPM, ISIR
COMPRESSION: UNDEFINED
STANDARD_VERSION: 1996 12
METADATA_DATE: 2001 11 12
DATA_FILE_SIZE: 41158402
BYTE_COUNT: 5422
