FILENAME: O4710543.SES.1165060.tif
QUADRANGLE_NAME: CIRCLE SW
QUADRANT: SE
WEST_LONGITUDE: -105 41 15.00000
EAST_LONGITUDE: -105 37 30.00000
NORTH_LATITUDE: 47 18 45.00000
SOUTH_LATITUDE: 47 15 0.00000
PRODUCTION_DATE: 2001 10 3
RASTER_ORDER: LEFT_RIGHT/TOP_BOTTOM
BAND_ORGANIZATION: SINGLE FILE
BAND_CONTENT: BLACK&WHITE
BAND_CONTENT: UNDEFINED
BAND_CONTENT: UNDEFINED
BITS_PER_PIXEL: 8
SAMPLES_AND_LINES: 5438 7598
HORIZONTAL_DATUM: NAD83
HORIZONTAL_COORDINATE_SYSTEM: UTM
COORDINATE_ZONE: 13
HORIZONTAL_UNITS: meters
HORIZONTAL_RESOLUTION: 1.00000
SECONDARY_HORIZONTAL_DATUM: NAD27
XY_ORIGIN: 447629.00000 5240428.00000
SECONDARY_XY_ORIGIN: 447669.75300 5240208.23900
NATION: US
STATE: MT
NW_QUAD_CORNER_XY: 448038.04800 5240121.21400
NE_QUAD_CORNER_XY: 452761.84600 5240081.44200
SE_QUAD_CORNERY_XY: 452706.17900 5233135.73300
SW_QUAD_CORNER_XY: 447976.81400 5233175.51200
SECONDARY_NW_QUAD_XY: 448036.43600 5239902.55500
SECONDARY_NE_QUAD_XY: 452760.38100 5239862.78200
SECONDARY_SE_QUAD_XY: 452704.71400 5232917.09700
SECONDARY_SW_QUAD_XY: 447975.20200 5232956.87800
RMSE_XY: 2.55000
IMAGE_SOURCE: BLACK AND WHITE FILM
SOURCE_IMAGE_ID: NAPP 9105-081
SOURCE_IMAGE_DATE: 1996 8 1
SOURCE_IMAGE_ID: NAPP 9094-147
SOURCE_IMAGE_DATE: 1996 7 9
SOURCE_DEM_DATE: 1993 0 0
AGENCY: WESTERN MAPPING CENTER (WMC)
PRODUCER: WOOLPERT LLP
PRODUCTION_SYSTEM: INTERGRAPH ISPM, ISIR
COMPRESSION: UNDEFINED
STANDARD_VERSION: 1996 12
METADATA_DATE: 2001 10 24
DATA_FILE_SIZE: 41323362
BYTE_COUNT: 5438
