FILENAME: O4710542.NES.1165046.tif
QUADRANGLE_NAME: BROCKWAY
QUADRANT: NE
WEST_LONGITUDE: -105 48 45.00000
EAST_LONGITUDE: -105 45 0.00000
NORTH_LATITUDE: 47 22 30.00000
SOUTH_LATITUDE: 47 18 45.00000
PRODUCTION_DATE: 2001 10 5
RASTER_ORDER: LEFT_RIGHT/TOP_BOTTOM
BAND_ORGANIZATION: SINGLE FILE
BAND_CONTENT: BLACK&WHITE
BAND_CONTENT: UNDEFINED
BAND_CONTENT: UNDEFINED
BITS_PER_PIXEL: 8
SAMPLES_AND_LINES: 5445 7605
HORIZONTAL_DATUM: NAD83
HORIZONTAL_COORDINATE_SYSTEM: UTM
COORDINATE_ZONE: 13
HORIZONTAL_UNITS: meters
HORIZONTAL_RESOLUTION: 1.00000
SECONDARY_HORIZONTAL_DATUM: NAD27
XY_ORIGIN: 438242.00000 5247464.00000
SECONDARY_XY_ORIGIN: 438282.83200 5247244.29600
NATION: US
STATE: MT
NW_QUAD_CORNER_XY: 438662.90900 5247157.88400
NE_QUAD_CORNER_XY: 443381.12400 5247110.54400
SE_QUAD_CORNERY_XY: 443314.25500 5240164.77500
SW_QUAD_CORNER_XY: 438590.46700 5240212.12300
SECONDARY_NW_QUAD_XY: 438661.00400 5246939.20500
SECONDARY_NE_QUAD_XY: 443379.36500 5246891.86300
SECONDARY_SE_QUAD_XY: 443312.49600 5239946.11700
SECONDARY_SW_QUAD_XY: 438588.56200 5239993.46700
RMSE_XY: 2.10000
IMAGE_SOURCE: BLACK AND WHITE FILM
SOURCE_IMAGE_ID: NAPP 9086-157
SOURCE_IMAGE_DATE: 1996 6 13
SOURCE_DEM_DATE: 1999 0 0
AGENCY: WESTERN MAPPING CENTER (WMC)
PRODUCER: WOOLPERT LLP
PRODUCTION_SYSTEM: INTERGRAPH ISPM, ISIR
COMPRESSION: UNDEFINED
STANDARD_VERSION: 1996 12
METADATA_DATE: 2001 10 5
DATA_FILE_SIZE: 41414670
BYTE_COUNT: 5445
