FILENAME: O4710540.NWS.1165316.tif
QUADRANGLE_NAME: JOHNSON RESERVOIR NE
QUADRANT: NW
WEST_LONGITUDE: -105 7 30.00000
EAST_LONGITUDE: -105 3 45.00000
NORTH_LATITUDE: 47 30 0.00000
SOUTH_LATITUDE: 47 26 15.00000
PRODUCTION_DATE: 2001 9 27
RASTER_ORDER: LEFT_RIGHT/TOP_BOTTOM
BAND_ORGANIZATION: SINGLE FILE
BAND_CONTENT: BLACK&WHITE
BAND_CONTENT: UNDEFINED
BAND_CONTENT: UNDEFINED
BITS_PER_PIXEL: 8
SAMPLES_AND_LINES: 5369 7564
HORIZONTAL_DATUM: NAD83
HORIZONTAL_COORDINATE_SYSTEM: UTM
COORDINATE_ZONE: 13
HORIZONTAL_UNITS: meters
HORIZONTAL_RESOLUTION: 1.00000
SECONDARY_HORIZONTAL_DATUM: NAD27
XY_ORIGIN: 490229.00000 5261044.00000
SECONDARY_XY_ORIGIN: 490268.93500 5260823.75600
NATION: US
STATE: MT
NW_QUAD_CORNER_XY: 490585.82200 5260737.30400
NE_QUAD_CORNER_XY: 495292.91100 5260731.62600
SE_QUAD_CORNERY_XY: 495287.32700 5253785.65700
SW_QUAD_CORNER_XY: 490574.65500 5253791.33600
SECONDARY_NW_QUAD_XY: 490585.52900 5260518.57000
SECONDARY_NE_QUAD_XY: 495292.76400 5260512.89100
SECONDARY_SE_QUAD_XY: 495287.18100 5253566.94400
SECONDARY_SW_QUAD_XY: 490574.36200 5253572.62400
RMSE_XY: 2.20000
IMAGE_SOURCE: BLACK AND WHITE FILM
SOURCE_IMAGE_ID: NAPP 9103-152
SOURCE_IMAGE_DATE: 1996 7 15
SOURCE_IMAGE_ID: NAPP 9096-189
SOURCE_IMAGE_DATE: 1996 7 9
SOURCE_IMAGE_ID: NAPP 9103-182
SOURCE_IMAGE_DATE: 1996 7 15
SOURCE_DEM_DATE: 1999 0 0
AGENCY: WESTERN MAPPING CENTER (WMC)
PRODUCER: WOOLPERT LLP
PRODUCTION_SYSTEM: INTERGRAPH ISPM, ISIR
COMPRESSION: UNDEFINED
STANDARD_VERSION: 1996 12
METADATA_DATE: 2001 10 9
DATA_FILE_SIZE: 40616485
BYTE_COUNT: 5369
