FILENAME: O4710540.SES.1165317.tif
QUADRANGLE_NAME: JOHNSON RESERVOIR NE
QUADRANT: SE
WEST_LONGITUDE: -105 3 45.00000
EAST_LONGITUDE: -105 0 0.00000
NORTH_LATITUDE: 47 26 15.00000
SOUTH_LATITUDE: 47 22 30.00000
PRODUCTION_DATE: 2001 9 27
RASTER_ORDER: LEFT_RIGHT/TOP_BOTTOM
BAND_ORGANIZATION: SINGLE FILE
BAND_CONTENT: BLACK&WHITE
BAND_CONTENT: UNDEFINED
BAND_CONTENT: UNDEFINED
BITS_PER_PIXEL: 8
SAMPLES_AND_LINES: 5369 7561
HORIZONTAL_DATUM: NAD83
HORIZONTAL_COORDINATE_SYSTEM: UTM
COORDINATE_ZONE: 13
HORIZONTAL_UNITS: meters
HORIZONTAL_RESOLUTION: 1.00000
SECONDARY_HORIZONTAL_DATUM: NAD27
XY_ORIGIN: 494936.00000 5254093.00000
SECONDARY_XY_ORIGIN: 494975.92200 5253872.81700
NATION: US
STATE: MT
NW_QUAD_CORNER_XY: 495287.32700 5253785.65700
NE_QUAD_CORNER_XY: 500000.00000 5253783.76400
SE_QUAD_CORNERY_XY: 500000.00000 5246837.87100
SW_QUAD_CORNER_XY: 495281.74900 5246839.76400
SECONDARY_NW_QUAD_XY: 495287.18100 5253566.94400
SECONDARY_NE_QUAD_XY: 500000.00000 5253565.05100
SECONDARY_SE_QUAD_XY: 500000.00000 5246619.18100
SECONDARY_SW_QUAD_XY: 495281.60300 5246621.07400
RMSE_XY: 2.15000
IMAGE_SOURCE: BLACK AND WHITE FILM
SOURCE_IMAGE_ID: NAPP 9096-192
SOURCE_IMAGE_DATE: 1996 7 9
SOURCE_DEM_DATE: 1999 0 0
AGENCY: WESTERN MAPPING CENTER (WMC)
PRODUCER: WOOLPERT LLP
PRODUCTION_SYSTEM: INTERGRAPH ISPM, ISIR
COMPRESSION: UNDEFINED
STANDARD_VERSION: 1996 12
METADATA_DATE: 2001 9 27
DATA_FILE_SIZE: 40600378
BYTE_COUNT: 5369
