FILENAME: O4710539.NES.1165303.tif
QUADRANGLE_NAME: JOHNSON RESERVOIR NW
QUADRANT: NE
WEST_LONGITUDE: -105 11 15.00000
EAST_LONGITUDE: -105 7 30.00000
NORTH_LATITUDE: 47 30 0.00000
SOUTH_LATITUDE: 47 26 15.00000
PRODUCTION_DATE: 2001 9 26
RASTER_ORDER: LEFT_RIGHT/TOP_BOTTOM
BAND_ORGANIZATION: SINGLE FILE
BAND_CONTENT: BLACK&WHITE
BAND_CONTENT: UNDEFINED
BAND_CONTENT: UNDEFINED
BITS_PER_PIXEL: 8
SAMPLES_AND_LINES: 5375 7568
HORIZONTAL_DATUM: NAD83
HORIZONTAL_COORDINATE_SYSTEM: UTM
COORDINATE_ZONE: 13
HORIZONTAL_UNITS: meters
HORIZONTAL_RESOLUTION: 1.00000
SECONDARY_HORIZONTAL_DATUM: NAD27
XY_ORIGIN: 485516.00000 5261054.00000
SECONDARY_XY_ORIGIN: 485555.99900 5260833.76800
NATION: US
STATE: MT
NW_QUAD_CORNER_XY: 485878.73400 5260746.76800
NE_QUAD_CORNER_XY: 490585.82200 5260737.30400
SE_QUAD_CORNERY_XY: 490574.65500 5253791.33600
SW_QUAD_CORNER_XY: 485861.98400 5253800.80200
SECONDARY_NW_QUAD_XY: 485878.29400 5260528.03400
SECONDARY_NE_QUAD_XY: 490585.52900 5260518.57000
SECONDARY_SE_QUAD_XY: 490574.36200 5253572.62400
SECONDARY_SW_QUAD_XY: 485861.54400 5253582.09000
RMSE_XY: 2.11000
IMAGE_SOURCE: BLACK AND WHITE FILM
SOURCE_IMAGE_ID: NAPP 9103-183
SOURCE_IMAGE_DATE: 1996 7 15
SOURCE_IMAGE_ID: NAPP 9103-184
SOURCE_IMAGE_DATE: 1996 7 15
SOURCE_IMAGE_ID: NAPP 9103-182
SOURCE_IMAGE_DATE: 1996 7 15
SOURCE_IMAGE_ID: NAPP 10763-008
SOURCE_IMAGE_DATE: 1997 9 20
SOURCE_DEM_DATE: 1999 0 0
AGENCY: WESTERN MAPPING CENTER (WMC)
PRODUCER: WOOLPERT LLP
PRODUCTION_SYSTEM: INTERGRAPH ISPM, ISIR
COMPRESSION: UNDEFINED
STANDARD_VERSION: 1996 12
METADATA_DATE: 2001 10 10
DATA_FILE_SIZE: 40683375
BYTE_COUNT: 5375
