FILENAME: O4710539.SES.1165305.tif
QUADRANGLE_NAME: JOHNSON RESERVOIR NW
QUADRANT: SE
WEST_LONGITUDE: -105 11 15.00000
EAST_LONGITUDE: -105 7 30.00000
NORTH_LATITUDE: 47 26 15.00000
SOUTH_LATITUDE: 47 22 30.00000
PRODUCTION_DATE: 2001 9 26
RASTER_ORDER: LEFT_RIGHT/TOP_BOTTOM
BAND_ORGANIZATION: SINGLE FILE
BAND_CONTENT: BLACK&WHITE
BAND_CONTENT: UNDEFINED
BAND_CONTENT: UNDEFINED
BITS_PER_PIXEL: 8
SAMPLES_AND_LINES: 5381 7568
HORIZONTAL_DATUM: NAD83
HORIZONTAL_COORDINATE_SYSTEM: UTM
COORDINATE_ZONE: 13
HORIZONTAL_UNITS: meters
HORIZONTAL_RESOLUTION: 1.00000
SECONDARY_HORIZONTAL_DATUM: NAD27
XY_ORIGIN: 485499.00000 5254108.00000
SECONDARY_XY_ORIGIN: 485539.05700 5253887.84100
NATION: US
STATE: MT
NW_QUAD_CORNER_XY: 485861.98400 5253800.80200
NE_QUAD_CORNER_XY: 490574.65500 5253791.33600
SE_QUAD_CORNERY_XY: 490563.49900 5246845.44500
SW_QUAD_CORNER_XY: 485845.25000 5246854.91200
SECONDARY_NW_QUAD_XY: 485861.54400 5253582.09000
SECONDARY_NE_QUAD_XY: 490574.36200 5253572.62400
SECONDARY_SE_QUAD_XY: 490563.20600 5246626.75500
SECONDARY_SW_QUAD_XY: 485844.81000 5246636.22300
RMSE_XY: 2.13000
IMAGE_SOURCE: BLACK AND WHITE FILM
SOURCE_IMAGE_ID: NAPP 9103-181
SOURCE_IMAGE_DATE: 1996 7 15
SOURCE_IMAGE_ID: NAPP 9103-182
SOURCE_IMAGE_DATE: 1996 7 15
SOURCE_IMAGE_ID: NAPP 10763-007
SOURCE_IMAGE_DATE: 1997 9 20
SOURCE_IMAGE_ID: NAPP 10763-008
SOURCE_IMAGE_DATE: 1997 9 20
SOURCE_IMAGE_ID: NAPP 9103-180
SOURCE_IMAGE_DATE: 1996 7 15
SOURCE_DEM_DATE: 1999 0 0
AGENCY: WESTERN MAPPING CENTER (WMC)
PRODUCER: WOOLPERT LLP
PRODUCTION_SYSTEM: INTERGRAPH ISPM, ISIR
COMPRESSION: UNDEFINED
STANDARD_VERSION: 1996 12
METADATA_DATE: 2001 10 10
DATA_FILE_SIZE: 40728789
BYTE_COUNT: 5381
