FILENAME: O4710538.NES.1165291.tif
QUADRANGLE_NAME: OLSON COULEE NORTH
QUADRANT: NE
WEST_LONGITUDE: -105 18 45.00000
EAST_LONGITUDE: -105 15 0.00000
NORTH_LATITUDE: 47 30 0.00000
SOUTH_LATITUDE: 47 26 15.00000
PRODUCTION_DATE: 2001 9 27
RASTER_ORDER: LEFT_RIGHT/TOP_BOTTOM
BAND_ORGANIZATION: SINGLE FILE
BAND_CONTENT: BLACK&WHITE
BAND_CONTENT: UNDEFINED
BAND_CONTENT: UNDEFINED
BITS_PER_PIXEL: 8
SAMPLES_AND_LINES: 5387 7575
HORIZONTAL_DATUM: NAD83
HORIZONTAL_COORDINATE_SYSTEM: UTM
COORDINATE_ZONE: 13
HORIZONTAL_UNITS: meters
HORIZONTAL_RESOLUTION: 1.00000
SECONDARY_HORIZONTAL_DATUM: NAD27
XY_ORIGIN: 476090.00000 5261084.00000
SECONDARY_XY_ORIGIN: 476130.12800 5260863.81200
NATION: US
STATE: MT
NW_QUAD_CORNER_XY: 476464.56300 5260777.05400
NE_QUAD_CORNER_XY: 481171.64800 5260760.01800
SE_QUAD_CORNERY_XY: 481149.31400 5253814.05500
SW_QUAD_CORNER_XY: 476436.64600 5253831.09300
SECONDARY_NW_QUAD_XY: 476463.83000 5260558.32100
SECONDARY_NE_QUAD_XY: 481171.06100 5260541.28500
SECONDARY_SE_QUAD_XY: 481148.72700 5253595.34300
SECONDARY_SW_QUAD_XY: 476435.91300 5253612.38200
RMSE_XY: 1.98000
IMAGE_SOURCE: BLACK AND WHITE FILM
SOURCE_IMAGE_ID: NAPP 9116-185
SOURCE_IMAGE_DATE: 1996 8 27
SOURCE_IMAGE_ID: NAPP 10763-008
SOURCE_IMAGE_DATE: 1997 9 20
SOURCE_DEM_DATE: 1999 0 0
AGENCY: WESTERN MAPPING CENTER (WMC)
PRODUCER: WOOLPERT LLP
PRODUCTION_SYSTEM: INTERGRAPH ISPM, ISIR
COMPRESSION: UNDEFINED
STANDARD_VERSION: 1996 12
METADATA_DATE: 2001 10 10
DATA_FILE_SIZE: 40811912
BYTE_COUNT: 5387
