FILENAME: O4710538.NWS.1165292.tif
QUADRANGLE_NAME: OLSON COULEE NORTH
QUADRANT: NW
WEST_LONGITUDE: -105 22 30.00000
EAST_LONGITUDE: -105 18 45.00000
NORTH_LATITUDE: 47 30 0.00000
SOUTH_LATITUDE: 47 26 15.00000
PRODUCTION_DATE: 2001 9 27
RASTER_ORDER: LEFT_RIGHT/TOP_BOTTOM
BAND_ORGANIZATION: SINGLE FILE
BAND_CONTENT: BLACK&WHITE
BAND_CONTENT: UNDEFINED
BAND_CONTENT: UNDEFINED
BITS_PER_PIXEL: 8
SAMPLES_AND_LINES: 5393 7579
HORIZONTAL_DATUM: NAD83
HORIZONTAL_COORDINATE_SYSTEM: UTM
COORDINATE_ZONE: 13
HORIZONTAL_UNITS: meters
HORIZONTAL_RESOLUTION: 1.00000
SECONDARY_HORIZONTAL_DATUM: NAD27
XY_ORIGIN: 471377.00000 5261105.00000
SECONDARY_XY_ORIGIN: 471417.19300 5260884.84200
NATION: US
STATE: MT
NW_QUAD_CORNER_XY: 471757.48100 5260797.87500
NE_QUAD_CORNER_XY: 476464.56300 5260777.05400
SE_QUAD_CORNERY_XY: 476436.64600 5253831.09300
SW_QUAD_CORNER_XY: 471723.98000 5253851.91800
SECONDARY_NW_QUAD_XY: 471756.60200 5260579.14300
SECONDARY_NE_QUAD_XY: 476463.83000 5260558.32100
SECONDARY_SE_QUAD_XY: 476435.91300 5253612.38200
SECONDARY_SW_QUAD_XY: 471723.10000 5253633.20800
RMSE_XY: 2.02000
IMAGE_SOURCE: BLACK AND WHITE FILM
SOURCE_IMAGE_ID: NAPP 9116-085
SOURCE_IMAGE_DATE: 1996 8 27
SOURCE_IMAGE_ID: NAPP 9116-086
SOURCE_IMAGE_DATE: 1996 8 27
SOURCE_DEM_DATE: 1999 0 0
AGENCY: WESTERN MAPPING CENTER (WMC)
PRODUCER: WOOLPERT LLP
PRODUCTION_SYSTEM: INTERGRAPH ISPM, ISIR
COMPRESSION: UNDEFINED
STANDARD_VERSION: 1996 12
METADATA_DATE: 2001 10 8
DATA_FILE_SIZE: 40878940
BYTE_COUNT: 5393
