FILENAME: O4710538.SES.1165293.tif
QUADRANGLE_NAME: OLSON COULEE NORTH
QUADRANT: SE
WEST_LONGITUDE: -105 18 45.00000
EAST_LONGITUDE: -105 15 0.00000
NORTH_LATITUDE: 47 26 15.00000
SOUTH_LATITUDE: 47 22 30.00000
PRODUCTION_DATE: 2001 9 27
RASTER_ORDER: LEFT_RIGHT/TOP_BOTTOM
BAND_ORGANIZATION: SINGLE FILE
BAND_CONTENT: BLACK&WHITE
BAND_CONTENT: UNDEFINED
BAND_CONTENT: UNDEFINED
BITS_PER_PIXEL: 8
SAMPLES_AND_LINES: 5393 7575
HORIZONTAL_DATUM: NAD83
HORIZONTAL_COORDINATE_SYSTEM: UTM
COORDINATE_ZONE: 13
HORIZONTAL_UNITS: meters
HORIZONTAL_RESOLUTION: 1.00000
SECONDARY_HORIZONTAL_DATUM: NAD27
XY_ORIGIN: 476062.00000 5254138.00000
SECONDARY_XY_ORIGIN: 476102.19000 5253917.88300
NATION: US
STATE: MT
NW_QUAD_CORNER_XY: 476436.64600 5253831.09300
NE_QUAD_CORNER_XY: 481149.31400 5253814.05500
SE_QUAD_CORNERY_XY: 481127.00200 5246868.16700
SW_QUAD_CORNER_XY: 476408.75600 5246885.20900
SECONDARY_NW_QUAD_XY: 476435.91300 5253612.38200
SECONDARY_NE_QUAD_XY: 481148.72700 5253595.34300
SECONDARY_SE_QUAD_XY: 481126.41600 5246649.47800
SECONDARY_SW_QUAD_XY: 476408.02300 5246666.52000
RMSE_XY: 1.87000
IMAGE_SOURCE: BLACK AND WHITE FILM
SOURCE_IMAGE_ID: NAPP 9116-187
SOURCE_IMAGE_DATE: 1996 8 27
SOURCE_IMAGE_ID: NAPP 9116-188
SOURCE_IMAGE_DATE: 1996 8 27
SOURCE_IMAGE_ID: NAPP 9116-082
SOURCE_IMAGE_DATE: 1996 8 27
SOURCE_IMAGE_ID: NAPP 10763-008
SOURCE_IMAGE_DATE: 1997 9 20
SOURCE_DEM_DATE: 1999 0 0
AGENCY: WESTERN MAPPING CENTER (WMC)
PRODUCER: WOOLPERT LLP
PRODUCTION_SYSTEM: INTERGRAPH ISPM, ISIR
COMPRESSION: UNDEFINED
STANDARD_VERSION: 1996 12
METADATA_DATE: 2001 10 10
DATA_FILE_SIZE: 40857368
BYTE_COUNT: 5393
