FILENAME: O4710537.NWS.1165280.tif
QUADRANGLE_NAME: WOODWORTH HILL
QUADRANT: NW
WEST_LONGITUDE: -105 30 0.00000
EAST_LONGITUDE: -105 26 15.00000
NORTH_LATITUDE: 47 30 0.00000
SOUTH_LATITUDE: 47 26 15.00000
PRODUCTION_DATE: 2001 9 27
RASTER_ORDER: LEFT_RIGHT/TOP_BOTTOM
BAND_ORGANIZATION: SINGLE FILE
BAND_CONTENT: BLACK&WHITE
BAND_CONTENT: UNDEFINED
BAND_CONTENT: UNDEFINED
BITS_PER_PIXEL: 8
SAMPLES_AND_LINES: 5404 7587
HORIZONTAL_DATUM: NAD83
HORIZONTAL_COORDINATE_SYSTEM: UTM
COORDINATE_ZONE: 13
HORIZONTAL_UNITS: meters
HORIZONTAL_RESOLUTION: 1.00000
SECONDARY_HORIZONTAL_DATUM: NAD27
XY_ORIGIN: 461952.00000 5261158.00000
SECONDARY_XY_ORIGIN: 461992.32200 5260937.90400
NATION: US
STATE: MT
NW_QUAD_CORNER_XY: 462343.32600 5260850.87500
NE_QUAD_CORNER_XY: 467050.40200 5260822.48200
SE_QUAD_CORNERY_XY: 467011.31700 5253876.53000
SW_QUAD_CORNER_XY: 462298.65700 5253904.92800
SECONDARY_NW_QUAD_XY: 462342.15300 5260632.14400
SECONDARY_NE_QUAD_XY: 467049.37600 5260603.75000
SECONDARY_SE_QUAD_XY: 467010.29100 5253657.82000
SECONDARY_SW_QUAD_XY: 462297.48500 5253686.21900
RMSE_XY: 2.50000
IMAGE_SOURCE: BLACK AND WHITE FILM
SOURCE_IMAGE_ID: NAPP 9093-179
SOURCE_IMAGE_DATE: 1996 7 9
SOURCE_IMAGE_ID: NAPP 9093-178
SOURCE_IMAGE_DATE: 1996 7 9
SOURCE_DEM_DATE: 1999 0 0
AGENCY: WESTERN MAPPING CENTER (WMC)
PRODUCER: WOOLPERT LLP
PRODUCTION_SYSTEM: INTERGRAPH ISPM, ISIR
COMPRESSION: UNDEFINED
STANDARD_VERSION: 1996 12
METADATA_DATE: 2001 10 13
DATA_FILE_SIZE: 41005552
BYTE_COUNT: 5404
