FILENAME: O4710537.SES.1165281.tif
QUADRANGLE_NAME: WOODWORTH HILL
QUADRANT: SE
WEST_LONGITUDE: -105 26 15.00000
EAST_LONGITUDE: -105 22 30.00000
NORTH_LATITUDE: 47 26 15.00000
SOUTH_LATITUDE: 47 22 30.00000
PRODUCTION_DATE: 2001 9 27
RASTER_ORDER: LEFT_RIGHT/TOP_BOTTOM
BAND_ORGANIZATION: SINGLE FILE
BAND_CONTENT: BLACK&WHITE
BAND_CONTENT: UNDEFINED
BAND_CONTENT: UNDEFINED
BITS_PER_PIXEL: 8
SAMPLES_AND_LINES: 5404 7582
HORIZONTAL_DATUM: NAD83
HORIZONTAL_COORDINATE_SYSTEM: UTM
COORDINATE_ZONE: 13
HORIZONTAL_UNITS: meters
HORIZONTAL_RESOLUTION: 1.00000
SECONDARY_HORIZONTAL_DATUM: NAD27
XY_ORIGIN: 466625.00000 5254183.00000
SECONDARY_XY_ORIGIN: 466665.32200 5253962.94100
NATION: US
STATE: MT
NW_QUAD_CORNER_XY: 467011.31700 5253876.53000
NE_QUAD_CORNER_XY: 471723.98000 5253851.91800
SE_QUAD_CORNERY_XY: 471690.51300 5246906.03800
SW_QUAD_CORNER_XY: 466972.27200 5246930.65400
SECONDARY_NW_QUAD_XY: 467010.29100 5253657.82000
SECONDARY_NE_QUAD_XY: 471723.10000 5253633.20800
SECONDARY_SE_QUAD_XY: 471689.63300 5246687.35000
SECONDARY_SW_QUAD_XY: 466971.24600 5246711.96700
RMSE_XY: 2.75000
IMAGE_SOURCE: BLACK AND WHITE FILM
SOURCE_IMAGE_ID: NAPP 9093-076
SOURCE_IMAGE_DATE: 1996 7 9
SOURCE_IMAGE_ID: NAPP 9093-075
SOURCE_IMAGE_DATE: 1996 7 9
SOURCE_DEM_DATE: 1999 0 0
AGENCY: WESTERN MAPPING CENTER (WMC)
PRODUCER: WOOLPERT LLP
PRODUCTION_SYSTEM: INTERGRAPH ISPM, ISIR
COMPRESSION: UNDEFINED
STANDARD_VERSION: 1996 12
METADATA_DATE: 2001 10 13
DATA_FILE_SIZE: 40978532
BYTE_COUNT: 5404
