FILENAME: O4710537.SWS.1165282.tif
QUADRANGLE_NAME: WOODWORTH HILL
QUADRANT: SW
WEST_LONGITUDE: -105 30 0.00000
EAST_LONGITUDE: -105 26 15.00000
NORTH_LATITUDE: 47 26 15.00000
SOUTH_LATITUDE: 47 22 30.00000
PRODUCTION_DATE: 2001 9 27
RASTER_ORDER: LEFT_RIGHT/TOP_BOTTOM
BAND_ORGANIZATION: SINGLE FILE
BAND_CONTENT: BLACK&WHITE
BAND_CONTENT: UNDEFINED
BAND_CONTENT: UNDEFINED
BITS_PER_PIXEL: 8
SAMPLES_AND_LINES: 5410 7587
HORIZONTAL_DATUM: NAD83
HORIZONTAL_COORDINATE_SYSTEM: UTM
COORDINATE_ZONE: 13
HORIZONTAL_UNITS: meters
HORIZONTAL_RESOLUTION: 1.00000
SECONDARY_HORIZONTAL_DATUM: NAD27
XY_ORIGIN: 461907.00000 5254212.00000
SECONDARY_XY_ORIGIN: 461947.38900 5253991.97200
NATION: US
STATE: MT
NW_QUAD_CORNER_XY: 462298.65700 5253904.92800
NE_QUAD_CORNER_XY: 467011.31700 5253876.53000
SE_QUAD_CORNERY_XY: 466972.27200 5246930.65400
SW_QUAD_CORNER_XY: 462254.03400 5246959.05700
SECONDARY_NW_QUAD_XY: 462297.48500 5253686.21900
SECONDARY_NE_QUAD_XY: 467010.29100 5253657.82000
SECONDARY_SE_QUAD_XY: 466971.24600 5246711.96700
SECONDARY_SW_QUAD_XY: 462252.86100 5246740.37100
RMSE_XY: 2.49000
IMAGE_SOURCE: BLACK AND WHITE FILM
SOURCE_IMAGE_ID: NAPP 9093-181
SOURCE_IMAGE_DATE: 1996 7 9
SOURCE_IMAGE_ID: NAPP 9093-182
SOURCE_IMAGE_DATE: 1996 7 9
SOURCE_DEM_DATE: 1999 0 0
AGENCY: WESTERN MAPPING CENTER (WMC)
PRODUCER: WOOLPERT LLP
PRODUCTION_SYSTEM: INTERGRAPH ISPM, ISIR
COMPRESSION: UNDEFINED
STANDARD_VERSION: 1996 12
METADATA_DATE: 2001 10 13
DATA_FILE_SIZE: 41051080
BYTE_COUNT: 5410
