FILENAME: O4710536.NES.1165066.tif
QUADRANGLE_NAME: CIRCLE
QUADRANT: NE
WEST_LONGITUDE: -105 33 45.00000
EAST_LONGITUDE: -105 30 0.00000
NORTH_LATITUDE: 47 30 0.00000
SOUTH_LATITUDE: 47 26 15.00000
PRODUCTION_DATE: 2001 10 2
RASTER_ORDER: LEFT_RIGHT/TOP_BOTTOM
BAND_ORGANIZATION: SINGLE FILE
BAND_CONTENT: BLACK&WHITE
BAND_CONTENT: UNDEFINED
BAND_CONTENT: UNDEFINED
BITS_PER_PIXEL: 8
SAMPLES_AND_LINES: 5410 7591
HORIZONTAL_DATUM: NAD83
HORIZONTAL_COORDINATE_SYSTEM: UTM
COORDINATE_ZONE: 13
HORIZONTAL_UNITS: meters
HORIZONTAL_RESOLUTION: 1.00000
SECONDARY_HORIZONTAL_DATUM: NAD27
XY_ORIGIN: 457239.00000 5261190.00000
SECONDARY_XY_ORIGIN: 457279.38600 5260969.95200
NATION: US
STATE: MT
NW_QUAD_CORNER_XY: 457636.25400 5260883.05400
NE_QUAD_CORNER_XY: 462343.32600 5260850.87500
SE_QUAD_CORNERY_XY: 462298.65700 5253904.92800
SW_QUAD_CORNER_XY: 457586.00100 5253937.11300
SECONDARY_NW_QUAD_XY: 457634.93500 5260664.32400
SECONDARY_NE_QUAD_XY: 462342.15300 5260632.14400
SECONDARY_SE_QUAD_XY: 462297.48500 5253686.21900
SECONDARY_SW_QUAD_XY: 457584.68200 5253718.40500
RMSE_XY: 2.10000
IMAGE_SOURCE: BLACK AND WHITE FILM
SOURCE_IMAGE_ID: NAPP 9094-039
SOURCE_IMAGE_DATE: 1996 7 9
SOURCE_DEM_DATE: 1999 0 0
AGENCY: WESTERN MAPPING CENTER (WMC)
PRODUCER: WOOLPERT LLP
PRODUCTION_SYSTEM: INTERGRAPH ISPM, ISIR
COMPRESSION: UNDEFINED
STANDARD_VERSION: 1996 12
METADATA_DATE: 2001 10 2
DATA_FILE_SIZE: 41072720
BYTE_COUNT: 5410
