FILENAME: O4710536.SES.1165068.tif
QUADRANGLE_NAME: CIRCLE
QUADRANT: SE
WEST_LONGITUDE: -105 33 45.00000
EAST_LONGITUDE: -105 30 0.00000
NORTH_LATITUDE: 47 26 15.00000
SOUTH_LATITUDE: 47 22 30.00000
PRODUCTION_DATE: 2001 10 2
RASTER_ORDER: LEFT_RIGHT/TOP_BOTTOM
BAND_ORGANIZATION: SINGLE FILE
BAND_CONTENT: BLACK&WHITE
BAND_CONTENT: UNDEFINED
BAND_CONTENT: UNDEFINED
BITS_PER_PIXEL: 8
SAMPLES_AND_LINES: 5416 7590
HORIZONTAL_DATUM: NAD83
HORIZONTAL_COORDINATE_SYSTEM: UTM
COORDINATE_ZONE: 13
HORIZONTAL_UNITS: meters
HORIZONTAL_RESOLUTION: 1.00000
SECONDARY_HORIZONTAL_DATUM: NAD27
XY_ORIGIN: 457188.00000 5254244.00000
SECONDARY_XY_ORIGIN: 457228.45700 5254024.01900
NATION: US
STATE: MT
NW_QUAD_CORNER_XY: 457586.00100 5253937.11300
NE_QUAD_CORNER_XY: 462298.65700 5253904.92800
SE_QUAD_CORNERY_XY: 462254.03400 5246959.05700
SW_QUAD_CORNER_XY: 457535.80000 5246991.24800
SECONDARY_NW_QUAD_XY: 457584.68200 5253718.40500
SECONDARY_NE_QUAD_XY: 462297.48500 5253686.21900
SECONDARY_SE_QUAD_XY: 462252.86100 5246740.37100
SECONDARY_SW_QUAD_XY: 457534.48100 5246772.56300
RMSE_XY: 2.15000
IMAGE_SOURCE: BLACK AND WHITE FILM
SOURCE_IMAGE_ID: NAPP 9094-037
SOURCE_IMAGE_DATE: 1996 7 9
SOURCE_IMAGE_ID: NAPP 9093-182
SOURCE_IMAGE_DATE: 1996 7 9
SOURCE_DEM_DATE: 1999 0 0
AGENCY: WESTERN MAPPING CENTER (WMC)
PRODUCER: WOOLPERT LLP
PRODUCTION_SYSTEM: INTERGRAPH ISPM, ISIR
COMPRESSION: UNDEFINED
STANDARD_VERSION: 1996 12
METADATA_DATE: 2001 10 15
DATA_FILE_SIZE: 41112856
BYTE_COUNT: 5416
