FILENAME: O4710535.NES.1165054.tif
QUADRANGLE_NAME: YOUNGQUIST MINE
QUADRANT: NE
WEST_LONGITUDE: -105 41 15.00000
EAST_LONGITUDE: -105 37 30.00000
NORTH_LATITUDE: 47 30 0.00000
SOUTH_LATITUDE: 47 26 15.00000
PRODUCTION_DATE: 2001 10 3
RASTER_ORDER: LEFT_RIGHT/TOP_BOTTOM
BAND_ORGANIZATION: SINGLE FILE
BAND_CONTENT: BLACK&WHITE
BAND_CONTENT: UNDEFINED
BAND_CONTENT: UNDEFINED
BITS_PER_PIXEL: 8
SAMPLES_AND_LINES: 5422 7597
HORIZONTAL_DATUM: NAD83
HORIZONTAL_COORDINATE_SYSTEM: UTM
COORDINATE_ZONE: 13
HORIZONTAL_UNITS: meters
HORIZONTAL_RESOLUTION: 1.00000
SECONDARY_HORIZONTAL_DATUM: NAD27
XY_ORIGIN: 447813.00000 5261265.00000
SECONDARY_XY_ORIGIN: 447853.51300 5261045.04800
NATION: US
STATE: MT
NW_QUAD_CORNER_XY: 448222.12400 5260958.77000
NE_QUAD_CORNER_XY: 452929.18600 5260919.01900
SE_QUAD_CORNERY_XY: 452873.35000 5253973.08500
SW_QUAD_CORNER_XY: 448160.70300 5254012.84300
SECONDARY_NW_QUAD_XY: 448220.51100 5260740.04200
SECONDARY_NE_QUAD_XY: 452927.72000 5260700.29000
SECONDARY_SE_QUAD_XY: 452871.88400 5253754.37800
SECONDARY_SW_QUAD_XY: 448159.09000 5253794.13700
RMSE_XY: 2.10000
IMAGE_SOURCE: BLACK AND WHITE FILM
SOURCE_IMAGE_ID: NAPP 9105-087
SOURCE_IMAGE_DATE: 1996 8 1
SOURCE_DEM_DATE: 1999 0 0
AGENCY: WESTERN MAPPING CENTER (WMC)
PRODUCER: WOOLPERT LLP
PRODUCTION_SYSTEM: INTERGRAPH ISPM, ISIR
COMPRESSION: UNDEFINED
STANDARD_VERSION: 1996 12
METADATA_DATE: 2001 10 3
DATA_FILE_SIZE: 41196356
BYTE_COUNT: 5422
