FILENAME: O4710535.NWS.1165055.tif
QUADRANGLE_NAME: YOUNGQUIST MINE
QUADRANT: NW
WEST_LONGITUDE: -105 45 0.00000
EAST_LONGITUDE: -105 41 15.00000
NORTH_LATITUDE: 47 30 0.00000
SOUTH_LATITUDE: 47 26 15.00000
PRODUCTION_DATE: 2001 10 3
RASTER_ORDER: LEFT_RIGHT/TOP_BOTTOM
BAND_ORGANIZATION: SINGLE FILE
BAND_CONTENT: BLACK&WHITE
BAND_CONTENT: UNDEFINED
BAND_CONTENT: UNDEFINED
BITS_PER_PIXEL: 8
SAMPLES_AND_LINES: 5428 7602
HORIZONTAL_DATUM: NAD83
HORIZONTAL_COORDINATE_SYSTEM: UTM
COORDINATE_ZONE: 13
HORIZONTAL_UNITS: meters
HORIZONTAL_RESOLUTION: 1.00000
SECONDARY_HORIZONTAL_DATUM: NAD27
XY_ORIGIN: 443100.00000 5261309.00000
SECONDARY_XY_ORIGIN: 443140.57700 5261089.09700
NATION: US
STATE: MT
NW_QUAD_CORNER_XY: 443515.06600 5261002.30700
NE_QUAD_CORNER_XY: 448222.12400 5260958.77000
SE_QUAD_CORNERY_XY: 448160.70300 5254012.84300
SW_QUAD_CORNER_XY: 443448.06100 5254056.38800
SECONDARY_NW_QUAD_XY: 443513.30700 5260783.58100
SECONDARY_NE_QUAD_XY: 448220.51100 5260740.04200
SECONDARY_SE_QUAD_XY: 448159.09000 5253794.13700
SECONDARY_SW_QUAD_XY: 443446.30200 5253837.68400
RMSE_XY: 2.20000
IMAGE_SOURCE: BLACK AND WHITE FILM
SOURCE_IMAGE_ID: NAPP 11000-012
SOURCE_IMAGE_DATE: 1998 7 13
SOURCE_IMAGE_ID: NAPP 11000-011
SOURCE_IMAGE_DATE: 1998 7 13
SOURCE_DEM_DATE: 1999 0 0
AGENCY: WESTERN MAPPING CENTER (WMC)
PRODUCER: WOOLPERT LLP
PRODUCTION_SYSTEM: INTERGRAPH ISPM, ISIR
COMPRESSION: UNDEFINED
STANDARD_VERSION: 1996 12
METADATA_DATE: 2001 10 24
DATA_FILE_SIZE: 41269084
BYTE_COUNT: 5428
