FILENAME: O4710534.NES.1165042.tif
QUADRANGLE_NAME: BROCKWAY NE
QUADRANT: NE
WEST_LONGITUDE: -105 48 45.00000
EAST_LONGITUDE: -105 45 0.00000
NORTH_LATITUDE: 47 30 0.00000
SOUTH_LATITUDE: 47 26 15.00000
PRODUCTION_DATE: 2001 10 5
RASTER_ORDER: LEFT_RIGHT/TOP_BOTTOM
BAND_ORGANIZATION: SINGLE FILE
BAND_CONTENT: BLACK&WHITE
BAND_CONTENT: UNDEFINED
BAND_CONTENT: UNDEFINED
BITS_PER_PIXEL: 8
SAMPLES_AND_LINES: 5434 7605
HORIZONTAL_DATUM: NAD83
HORIZONTAL_COORDINATE_SYSTEM: UTM
COORDINATE_ZONE: 13
HORIZONTAL_UNITS: meters
HORIZONTAL_RESOLUTION: 1.00000
SECONDARY_HORIZONTAL_DATUM: NAD27
XY_ORIGIN: 438387.00000 5261356.00000
SECONDARY_XY_ORIGIN: 438427.64200 5261136.16900
NATION: US
STATE: MT
NW_QUAD_CORNER_XY: 438808.01400 5261049.63000
NE_QUAD_CORNER_XY: 443515.06600 5261002.30700
SE_QUAD_CORNERY_XY: 443448.06100 5254056.38800
SW_QUAD_CORNER_XY: 438735.42500 5254103.72000
SECONDARY_NW_QUAD_XY: 438806.10800 5260830.90500
SECONDARY_NE_QUAD_XY: 443513.30700 5260783.58100
SECONDARY_SE_QUAD_XY: 443446.30200 5253837.68400
SECONDARY_SW_QUAD_XY: 438733.51900 5253885.01700
RMSE_XY: 2.15000
IMAGE_SOURCE: BLACK AND WHITE FILM
SOURCE_IMAGE_ID: NAPP 9086-161
SOURCE_IMAGE_DATE: 1996 6 13
SOURCE_IMAGE_ID: NAPP 11000-011
SOURCE_IMAGE_DATE: 1998 7 13
SOURCE_DEM_DATE: 1999 0 0
AGENCY: WESTERN MAPPING CENTER (WMC)
PRODUCER: WOOLPERT LLP
PRODUCTION_SYSTEM: INTERGRAPH ISPM, ISIR
COMPRESSION: UNDEFINED
STANDARD_VERSION: 1996 12
METADATA_DATE: 2001 10 23
DATA_FILE_SIZE: 41331004
BYTE_COUNT: 5434
