FILENAME: O4710534.NWS.1165043.tif
QUADRANGLE_NAME: BROCKWAY NE
QUADRANT: NW
WEST_LONGITUDE: -105 52 30.00000
EAST_LONGITUDE: -105 48 45.00000
NORTH_LATITUDE: 47 30 0.00000
SOUTH_LATITUDE: 47 26 15.00000
PRODUCTION_DATE: 2001 10 5
RASTER_ORDER: LEFT_RIGHT/TOP_BOTTOM
BAND_ORGANIZATION: SINGLE FILE
BAND_CONTENT: BLACK&WHITE
BAND_CONTENT: UNDEFINED
BAND_CONTENT: UNDEFINED
BITS_PER_PIXEL: 8
SAMPLES_AND_LINES: 5440 7609
HORIZONTAL_DATUM: NAD83
HORIZONTAL_COORDINATE_SYSTEM: UTM
COORDINATE_ZONE: 13
HORIZONTAL_UNITS: meters
HORIZONTAL_RESOLUTION: 1.00000
SECONDARY_HORIZONTAL_DATUM: NAD27
XY_ORIGIN: 433674.00000 5261407.00000
SECONDARY_XY_ORIGIN: 433714.70700 5261187.24100
NATION: US
STATE: MT
NW_QUAD_CORNER_XY: 434100.96900 5261100.73900
NE_QUAD_CORNER_XY: 438808.01400 5261049.63000
SE_QUAD_CORNERY_XY: 438735.42500 5254103.72000
SW_QUAD_CORNER_XY: 434022.79500 5254154.83900
SECONDARY_NW_QUAD_XY: 434098.91600 5260882.01600
SECONDARY_NE_QUAD_XY: 438806.10800 5260830.90500
SECONDARY_SE_QUAD_XY: 438733.51900 5253885.01700
SECONDARY_SW_QUAD_XY: 434020.74300 5253936.13800
RMSE_XY: 2.35000
IMAGE_SOURCE: BLACK AND WHITE FILM
SOURCE_IMAGE_ID: NAPP 9118-013
SOURCE_IMAGE_DATE: 1996 8 27
SOURCE_DEM_DATE: 1999 0 0
AGENCY: WESTERN MAPPING CENTER (WMC)
PRODUCER: WOOLPERT LLP
PRODUCTION_SYSTEM: INTERGRAPH ISPM, ISIR
COMPRESSION: UNDEFINED
STANDARD_VERSION: 1996 12
METADATA_DATE: 2001 11 12
DATA_FILE_SIZE: 41398400
BYTE_COUNT: 5440
