FILENAME: O4710533.NES.1165030.tif
QUADRANGLE_NAME: JOHNSON COULEE EAST
QUADRANT: NE
WEST_LONGITUDE: -105 56 15.00000
EAST_LONGITUDE: -105 52 30.00000
NORTH_LATITUDE: 47 30 0.00000
SOUTH_LATITUDE: 47 26 15.00000
PRODUCTION_DATE: 2001 10 8
RASTER_ORDER: LEFT_RIGHT/TOP_BOTTOM
BAND_ORGANIZATION: SINGLE FILE
BAND_CONTENT: BLACK&WHITE
BAND_CONTENT: UNDEFINED
BAND_CONTENT: UNDEFINED
BITS_PER_PIXEL: 8
SAMPLES_AND_LINES: 5444 7613
HORIZONTAL_DATUM: NAD83
HORIZONTAL_COORDINATE_SYSTEM: UTM
COORDINATE_ZONE: 13
HORIZONTAL_UNITS: meters
HORIZONTAL_RESOLUTION: 1.00000
SECONDARY_HORIZONTAL_DATUM: NAD27
XY_ORIGIN: 428962.00000 5261462.00000
SECONDARY_XY_ORIGIN: 429002.77200 5261242.31300
NATION: US
STATE: MT
NW_QUAD_CORNER_XY: 429393.93000 5261155.63500
NE_QUAD_CORNER_XY: 434100.96900 5261100.73900
SE_QUAD_CORNERY_XY: 434022.79500 5254154.83900
SW_QUAD_CORNER_XY: 429310.17100 5254209.74500
SECONDARY_NW_QUAD_XY: 429391.73100 5260936.91400
SECONDARY_NE_QUAD_XY: 434098.91600 5260882.01600
SECONDARY_SE_QUAD_XY: 434020.74300 5253936.13800
SECONDARY_SW_QUAD_XY: 429307.97300 5253991.04600
RMSE_XY: 2.10000
IMAGE_SOURCE: BLACK AND WHITE FILM
SOURCE_IMAGE_ID: NAPP 9088-089
SOURCE_IMAGE_DATE: 1996 7 7
SOURCE_DEM_DATE: 1999 0 0
AGENCY: WESTERN MAPPING CENTER (WMC)
PRODUCER: WOOLPERT LLP
PRODUCTION_SYSTEM: INTERGRAPH ISPM, ISIR
COMPRESSION: UNDEFINED
STANDARD_VERSION: 1996 12
METADATA_DATE: 2001 10 8
DATA_FILE_SIZE: 41450616
BYTE_COUNT: 5444
