FILENAME: O4710533.SWS.1165033.tif
QUADRANGLE_NAME: JOHNSON COULEE EAST
QUADRANT: SW
WEST_LONGITUDE: -106 0 0.00000
EAST_LONGITUDE: -105 56 15.00000
NORTH_LATITUDE: 47 26 15.00000
SOUTH_LATITUDE: 47 22 30.00000
PRODUCTION_DATE: 2001 10 8
RASTER_ORDER: LEFT_RIGHT/TOP_BOTTOM
BAND_ORGANIZATION: SINGLE FILE
BAND_CONTENT: BLACK&WHITE
BAND_CONTENT: UNDEFINED
BAND_CONTENT: UNDEFINED
BITS_PER_PIXEL: 8
SAMPLES_AND_LINES: 5457 7617
HORIZONTAL_DATUM: NAD83
HORIZONTAL_COORDINATE_SYSTEM: UTM
COORDINATE_ZONE: 13
HORIZONTAL_UNITS: meters
HORIZONTAL_RESOLUTION: 1.00000
SECONDARY_HORIZONTAL_DATUM: NAD27
XY_ORIGIN: 424159.00000 5254575.00000
SECONDARY_XY_ORIGIN: 424199.96400 5254355.45100
NATION: US
STATE: MT
NW_QUAD_CORNER_XY: 424597.55500 5254268.43800
NE_QUAD_CORNER_XY: 429310.17100 5254209.74500
SE_QUAD_CORNERY_XY: 429226.49700 5247263.92900
SW_QUAD_CORNER_XY: 424508.30200 5247322.63300
SECONDARY_NW_QUAD_XY: 424595.20900 5254049.74100
SECONDARY_NE_QUAD_XY: 429307.97300 5253991.04600
SECONDARY_SE_QUAD_XY: 429224.29900 5247045.25200
SECONDARY_SW_QUAD_XY: 424505.95700 5247103.95800
RMSE_XY: 2.50000
IMAGE_SOURCE: BLACK AND WHITE FILM
SOURCE_IMAGE_ID: NAPP 9088-175
SOURCE_IMAGE_DATE: 1996 7 7
SOURCE_DEM_DATE: 1999 0 0
AGENCY: WESTERN MAPPING CENTER (WMC)
PRODUCER: WOOLPERT LLP
PRODUCTION_SYSTEM: INTERGRAPH ISPM, ISIR
COMPRESSION: UNDEFINED
STANDARD_VERSION: 1996 12
METADATA_DATE: 2001 10 8
DATA_FILE_SIZE: 41571426
BYTE_COUNT: 5457
