FILENAME: O4710532.NWS.1165276.tif
QUADRANGLE_NAME: RICHEY SE
QUADRANT: NW
WEST_LONGITUDE: -105 7 30.00000
EAST_LONGITUDE: -105 3 45.00000
NORTH_LATITUDE: 47 37 30.00000
SOUTH_LATITUDE: 47 33 45.00000
PRODUCTION_DATE: 2001 9 19
RASTER_ORDER: LEFT_RIGHT/TOP_BOTTOM
BAND_ORGANIZATION: SINGLE FILE
BAND_CONTENT: BLACK&WHITE
BAND_CONTENT: UNDEFINED
BAND_CONTENT: UNDEFINED
BITS_PER_PIXEL: 8
SAMPLES_AND_LINES: 5359 7565
HORIZONTAL_DATUM: NAD83
HORIZONTAL_COORDINATE_SYSTEM: UTM
COORDINATE_ZONE: 13
HORIZONTAL_UNITS: meters
HORIZONTAL_RESOLUTION: 1.00000
SECONDARY_HORIZONTAL_DATUM: NAD27
XY_ORIGIN: 490251.00000 5274937.00000
SECONDARY_XY_ORIGIN: 490290.82700 5274716.58300
NATION: US
STATE: MT
NW_QUAD_CORNER_XY: 490608.19000 5274629.46800
NE_QUAD_CORNER_XY: 495304.09500 5274623.79200
SE_QUAD_CORNERY_XY: 495298.50000 5267677.67100
SW_QUAD_CORNER_XY: 490597.00000 5267683.34800
SECONDARY_NW_QUAD_XY: 490607.89600 5274410.69200
SECONDARY_NE_QUAD_XY: 495303.94800 5274405.01600
SECONDARY_SE_QUAD_XY: 495298.35300 5267458.91500
SECONDARY_SW_QUAD_XY: 490596.70700 5267464.59200
RMSE_XY: 2.09000
IMAGE_SOURCE: BLACK AND WHITE FILM
SOURCE_IMAGE_ID: NAPP 9103-148
SOURCE_IMAGE_DATE: 1996 7 15
SOURCE_DEM_DATE: 1999 0 0
AGENCY: WESTERN MAPPING CENTER (WMC)
PRODUCER: WOOLPERT LLP
PRODUCTION_SYSTEM: INTERGRAPH ISPM, ISIR
COMPRESSION: UNDEFINED
STANDARD_VERSION: 1996 12
METADATA_DATE: 2001 9 19
DATA_FILE_SIZE: 40546194
BYTE_COUNT: 5359
