FILENAME: O4710531.SES.1165265.tif
QUADRANGLE_NAME: CIRCLE RESERVOIR
QUADRANT: SE
WEST_LONGITUDE: -105 11 15.00000
EAST_LONGITUDE: -105 7 30.00000
NORTH_LATITUDE: 47 33 45.00000
SOUTH_LATITUDE: 47 30 0.00000
PRODUCTION_DATE: 2001 10 1
RASTER_ORDER: LEFT_RIGHT/TOP_BOTTOM
BAND_ORGANIZATION: SINGLE FILE
BAND_CONTENT: BLACK&WHITE
BAND_CONTENT: UNDEFINED
BAND_CONTENT: UNDEFINED
BITS_PER_PIXEL: 8
SAMPLES_AND_LINES: 5370 7568
HORIZONTAL_DATUM: NAD83
HORIZONTAL_COORDINATE_SYSTEM: UTM
COORDINATE_ZONE: 13
HORIZONTAL_UNITS: meters
HORIZONTAL_RESOLUTION: 1.00000
SECONDARY_HORIZONTAL_DATUM: NAD27
XY_ORIGIN: 485533.00000 5268000.00000
SECONDARY_XY_ORIGIN: 485572.94200 5267779.67900
NATION: US
STATE: MT
NW_QUAD_CORNER_XY: 485895.50100 5267692.81000
NE_QUAD_CORNER_XY: 490597.00000 5267683.34800
SE_QUAD_CORNERY_XY: 490585.82200 5260737.30400
SW_QUAD_CORNER_XY: 485878.73400 5260746.76800
SECONDARY_NW_QUAD_XY: 485895.06200 5267474.05500
SECONDARY_NE_QUAD_XY: 490596.70700 5267464.59200
SECONDARY_SE_QUAD_XY: 490585.52900 5260518.57000
SECONDARY_SW_QUAD_XY: 485878.29400 5260528.03400
RMSE_XY: 2.35000
IMAGE_SOURCE: BLACK AND WHITE FILM
SOURCE_IMAGE_ID: NAPP 9103-185
SOURCE_IMAGE_DATE: 1996 7 15
SOURCE_IMAGE_ID: NAPP 9103-184
SOURCE_IMAGE_DATE: 1996 7 15
SOURCE_DEM_DATE: 1999 0 0
AGENCY: WESTERN MAPPING CENTER (WMC)
PRODUCER: WOOLPERT LLP
PRODUCTION_SYSTEM: INTERGRAPH ISPM, ISIR
COMPRESSION: UNDEFINED
STANDARD_VERSION: 1996 12
METADATA_DATE: 2001 10 5
DATA_FILE_SIZE: 40645530
BYTE_COUNT: 5370
