FILENAME: O4710531.SWS.1165266.tif
QUADRANGLE_NAME: CIRCLE RESERVOIR
QUADRANT: SW
WEST_LONGITUDE: -105 15 0.00000
EAST_LONGITUDE: -105 11 15.00000
NORTH_LATITUDE: 47 33 45.00000
SOUTH_LATITUDE: 47 30 0.00000
PRODUCTION_DATE: 2001 10 1
RASTER_ORDER: LEFT_RIGHT/TOP_BOTTOM
BAND_ORGANIZATION: SINGLE FILE
BAND_CONTENT: BLACK&WHITE
BAND_CONTENT: UNDEFINED
BAND_CONTENT: UNDEFINED
BITS_PER_PIXEL: 8
SAMPLES_AND_LINES: 5376 7572
HORIZONTAL_DATUM: NAD83
HORIZONTAL_COORDINATE_SYSTEM: UTM
COORDINATE_ZONE: 13
HORIZONTAL_UNITS: meters
HORIZONTAL_RESOLUTION: 1.00000
SECONDARY_HORIZONTAL_DATUM: NAD27
XY_ORIGIN: 480825.00000 5268013.00000
SECONDARY_XY_ORIGIN: 480865.00400 5267792.69100
NATION: US
STATE: MT
NW_QUAD_CORNER_XY: 481194.00400 5267706.05800
NE_QUAD_CORNER_XY: 485895.50100 5267692.81000
SE_QUAD_CORNERY_XY: 485878.73400 5260746.76800
SW_QUAD_CORNER_XY: 481171.64800 5260760.01800
SECONDARY_NW_QUAD_XY: 481193.41800 5267487.30300
SECONDARY_NE_QUAD_XY: 485895.06200 5267474.05500
SECONDARY_SE_QUAD_XY: 485878.29400 5260528.03400
SECONDARY_SW_QUAD_XY: 481171.06100 5260541.28500
RMSE_XY: 2.40000
IMAGE_SOURCE: BLACK AND WHITE FILM
SOURCE_IMAGE_ID: NAPP 10725-014
SOURCE_IMAGE_DATE: 1997 9 2
SOURCE_IMAGE_ID: NAPP 10725-013
SOURCE_IMAGE_DATE: 1997 9 2
SOURCE_IMAGE_ID: NAPP 9103-184
SOURCE_IMAGE_DATE: 1996 7 15
SOURCE_DEM_DATE: 1999 0 0
AGENCY: WESTERN MAPPING CENTER (WMC)
PRODUCER: WOOLPERT LLP
PRODUCTION_SYSTEM: INTERGRAPH ISPM, ISIR
COMPRESSION: UNDEFINED
STANDARD_VERSION: 1996 12
METADATA_DATE: 2001 10 5
DATA_FILE_SIZE: 40712448
BYTE_COUNT: 5376
