FILENAME: O4710530.SES.1165253.tif
QUADRANGLE_NAME: BUFFALO CREEK SE
QUADRANT: SE
WEST_LONGITUDE: -105 18 45.00000
EAST_LONGITUDE: -105 15 0.00000
NORTH_LATITUDE: 47 33 45.00000
SOUTH_LATITUDE: 47 30 0.00000
PRODUCTION_DATE: 2001 10 2
RASTER_ORDER: LEFT_RIGHT/TOP_BOTTOM
BAND_ORGANIZATION: SINGLE FILE
BAND_CONTENT: BLACK&WHITE
BAND_CONTENT: UNDEFINED
BAND_CONTENT: UNDEFINED
BITS_PER_PIXEL: 8
SAMPLES_AND_LINES: 5382 7575
HORIZONTAL_DATUM: NAD83
HORIZONTAL_COORDINATE_SYSTEM: UTM
COORDINATE_ZONE: 13
HORIZONTAL_UNITS: meters
HORIZONTAL_RESOLUTION: 1.00000
SECONDARY_HORIZONTAL_DATUM: NAD27
XY_ORIGIN: 476118.00000 5268030.00000
SECONDARY_XY_ORIGIN: 476158.06700 5267809.71800
NATION: US
STATE: MT
NW_QUAD_CORNER_XY: 476492.50900 5267723.09000
NE_QUAD_CORNER_XY: 481194.00400 5267706.05800
SE_QUAD_CORNERY_XY: 481171.64800 5260760.01800
SW_QUAD_CORNER_XY: 476464.56300 5260777.05400
SECONDARY_NW_QUAD_XY: 476491.77600 5267504.33600
SECONDARY_NE_QUAD_XY: 481193.41800 5267487.30300
SECONDARY_SE_QUAD_XY: 481171.06100 5260541.28500
SECONDARY_SW_QUAD_XY: 476463.83000 5260558.32100
RMSE_XY: 2.81000
IMAGE_SOURCE: BLACK AND WHITE FILM
SOURCE_IMAGE_ID: NAPP 9116-183
SOURCE_IMAGE_DATE: 1996 8 27
SOURCE_DEM_DATE: 1999 0 0
AGENCY: WESTERN MAPPING CENTER (WMC)
PRODUCER: WOOLPERT LLP
PRODUCTION_SYSTEM: INTERGRAPH ISPM, ISIR
COMPRESSION: UNDEFINED
STANDARD_VERSION: 1996 12
METADATA_DATE: 2001 10 2
DATA_FILE_SIZE: 40774032
BYTE_COUNT: 5382
