FILENAME: O4710529.NES.1165239.tif
QUADRANGLE_NAME: BUFFALO CREEK
QUADRANT: NE
WEST_LONGITUDE: -105 26 15.00000
EAST_LONGITUDE: -105 22 30.00000
NORTH_LATITUDE: 47 37 30.00000
SOUTH_LATITUDE: 47 33 45.00000
PRODUCTION_DATE: 2001 9 28
RASTER_ORDER: LEFT_RIGHT/TOP_BOTTOM
BAND_ORGANIZATION: SINGLE FILE
BAND_CONTENT: BLACK&WHITE
BAND_CONTENT: UNDEFINED
BAND_CONTENT: UNDEFINED
BITS_PER_PIXEL: 8
SAMPLES_AND_LINES: 5387 7584
HORIZONTAL_DATUM: NAD83
HORIZONTAL_COORDINATE_SYSTEM: UTM
COORDINATE_ZONE: 13
HORIZONTAL_UNITS: meters
HORIZONTAL_RESOLUTION: 1.00000
SECONDARY_HORIZONTAL_DATUM: NAD27
XY_ORIGIN: 466743.00000 5275022.00000
SECONDARY_XY_ORIGIN: 466783.12900 5274801.67500
NATION: US
STATE: MT
NW_QUAD_CORNER_XY: 467128.69000 5274714.61300
NE_QUAD_CORNER_XY: 471824.58500 5274690.01600
SE_QUAD_CORNERY_XY: 471791.01600 5267743.90800
SW_QUAD_CORNER_XY: 467089.52600 5267768.51000
SECONDARY_NW_QUAD_XY: 467127.66400 5274495.84000
SECONDARY_NE_QUAD_XY: 471823.70500 5274471.24200
SECONDARY_SE_QUAD_XY: 471790.13600 5267525.15400
SECONDARY_SW_QUAD_XY: 467088.50000 5267549.75700
RMSE_XY: 2.69000
IMAGE_SOURCE: BLACK AND WHITE FILM
SOURCE_IMAGE_ID: NAPP 9093-082
SOURCE_IMAGE_DATE: 1996 7 9
SOURCE_IMAGE_ID: NAPP 9093-083
SOURCE_IMAGE_DATE: 1996 7 9
SOURCE_DEM_DATE: 1999 0 0
AGENCY: WESTERN MAPPING CENTER (WMC)
PRODUCER: WOOLPERT LLP
PRODUCTION_SYSTEM: INTERGRAPH ISPM, ISIR
COMPRESSION: UNDEFINED
STANDARD_VERSION: 1996 12
METADATA_DATE: 2001 10 12
DATA_FILE_SIZE: 40860395
BYTE_COUNT: 5387
