FILENAME: O4710528.NES.1165026.tif
QUADRANGLE_NAME: HUDIBURGH RESERVOIR SE
QUADRANT: NE
WEST_LONGITUDE: -105 33 45.00000
EAST_LONGITUDE: -105 30 0.00000
NORTH_LATITUDE: 47 37 30.00000
SOUTH_LATITUDE: 47 33 45.00000
PRODUCTION_DATE: 2001 10 8
RASTER_ORDER: LEFT_RIGHT/TOP_BOTTOM
BAND_ORGANIZATION: SINGLE FILE
BAND_CONTENT: BLACK&WHITE
BAND_CONTENT: UNDEFINED
BAND_CONTENT: UNDEFINED
BITS_PER_PIXEL: 8
SAMPLES_AND_LINES: 5399 7591
HORIZONTAL_DATUM: NAD83
HORIZONTAL_COORDINATE_SYSTEM: UTM
COORDINATE_ZONE: 13
HORIZONTAL_UNITS: meters
HORIZONTAL_RESOLUTION: 1.00000
SECONDARY_HORIZONTAL_DATUM: NAD27
XY_ORIGIN: 457339.00000 5275082.00000
SECONDARY_XY_ORIGIN: 457379.24800 5274861.73100
NATION: US
STATE: MT
NW_QUAD_CORNER_XY: 457736.91200 5274775.16200
NE_QUAD_CORNER_XY: 462432.79900 5274742.99500
SE_QUAD_CORNERY_XY: 462388.04000 5267796.89800
SW_QUAD_CORNER_XY: 457686.55700 5267829.07000
SECONDARY_NW_QUAD_XY: 457735.59200 5274556.39000
SECONDARY_NE_QUAD_XY: 462431.62600 5274524.22300
SECONDARY_SE_QUAD_XY: 462386.86700 5267578.14500
SECONDARY_SW_QUAD_XY: 457685.23800 5267610.31900
RMSE_XY: 2.44000
IMAGE_SOURCE: BLACK AND WHITE FILM
SOURCE_IMAGE_ID: NAPP 9094-043
SOURCE_IMAGE_DATE: 1996 7 9
SOURCE_IMAGE_ID: NAPP 9105-177
SOURCE_IMAGE_DATE: 1996 6 1
SOURCE_DEM_DATE: 1999 0 0
AGENCY: WESTERN MAPPING CENTER (WMC)
PRODUCER: WOOLPERT LLP
PRODUCTION_SYSTEM: INTERGRAPH ISPM, ISIR
COMPRESSION: UNDEFINED
STANDARD_VERSION: 1996 12
METADATA_DATE: 2001 10 22
DATA_FILE_SIZE: 40989208
BYTE_COUNT: 5399
