FILENAME: O4710528.NWS.1165027.tif
QUADRANGLE_NAME: HUDIBURGH RESERVOIR SE
QUADRANT: NW
WEST_LONGITUDE: -105 37 30.00000
EAST_LONGITUDE: -105 33 45.00000
NORTH_LATITUDE: 47 37 30.00000
SOUTH_LATITUDE: 47 33 45.00000
PRODUCTION_DATE: 2001 10 8
RASTER_ORDER: LEFT_RIGHT/TOP_BOTTOM
BAND_ORGANIZATION: SINGLE FILE
BAND_CONTENT: BLACK&WHITE
BAND_CONTENT: UNDEFINED
BAND_CONTENT: UNDEFINED
BITS_PER_PIXEL: 8
SAMPLES_AND_LINES: 5404 7594
HORIZONTAL_DATUM: NAD83
HORIZONTAL_COORDINATE_SYSTEM: UTM
COORDINATE_ZONE: 13
HORIZONTAL_UNITS: meters
HORIZONTAL_RESOLUTION: 1.00000
SECONDARY_HORIZONTAL_DATUM: NAD27
XY_ORIGIN: 452638.00000 5275118.00000
SECONDARY_XY_ORIGIN: 452678.30400 5274897.76200
NATION: US
STATE: MT
NW_QUAD_CORNER_XY: 453041.02900 5274811.11300
NE_QUAD_CORNER_XY: 457736.91200 5274775.16200
SE_QUAD_CORNERY_XY: 457686.55700 5267829.07000
SW_QUAD_CORNER_XY: 452985.07900 5267865.02800
SECONDARY_NW_QUAD_XY: 453039.56300 5274592.34200
SECONDARY_NE_QUAD_XY: 457735.59200 5274556.39000
SECONDARY_SE_QUAD_XY: 457685.23800 5267610.31900
SECONDARY_SW_QUAD_XY: 452983.61300 5267646.27800
RMSE_XY: 1.99000
IMAGE_SOURCE: BLACK AND WHITE FILM
SOURCE_IMAGE_ID: NAPP 9105-177
SOURCE_IMAGE_DATE: 1996 8 1
SOURCE_DEM_DATE: 1999 0 0
AGENCY: WESTERN MAPPING CENTER (WMC)
PRODUCER: WOOLPERT LLP
PRODUCTION_SYSTEM: INTERGRAPH ISPM, ISIR
COMPRESSION: UNDEFINED
STANDARD_VERSION: 1996 12
METADATA_DATE: 2001 10 8
DATA_FILE_SIZE: 41043380
BYTE_COUNT: 5404
