FILENAME: O4710528.SES.1165028.tif
QUADRANGLE_NAME: HUDIBURGH RESERVOIR SE
QUADRANT: SE
WEST_LONGITUDE: -105 33 45.00000
EAST_LONGITUDE: -105 30 0.00000
NORTH_LATITUDE: 47 33 45.00000
SOUTH_LATITUDE: 47 30 0.00000
PRODUCTION_DATE: 2001 10 8
RASTER_ORDER: LEFT_RIGHT/TOP_BOTTOM
BAND_ORGANIZATION: SINGLE FILE
BAND_CONTENT: BLACK&WHITE
BAND_CONTENT: UNDEFINED
BAND_CONTENT: UNDEFINED
BITS_PER_PIXEL: 8
SAMPLES_AND_LINES: 5405 7591
HORIZONTAL_DATUM: NAD83
HORIZONTAL_COORDINATE_SYSTEM: UTM
COORDINATE_ZONE: 13
HORIZONTAL_UNITS: meters
HORIZONTAL_RESOLUTION: 1.00000
SECONDARY_HORIZONTAL_DATUM: NAD27
XY_ORIGIN: 457289.00000 5268136.00000
SECONDARY_XY_ORIGIN: 457329.31700 5267915.84100
NATION: US
STATE: MT
NW_QUAD_CORNER_XY: 457686.55700 5267829.07000
NE_QUAD_CORNER_XY: 462388.04000 5267796.89800
SE_QUAD_CORNERY_XY: 462343.32600 5260850.87500
SW_QUAD_CORNER_XY: 457636.25400 5260883.05400
SECONDARY_NW_QUAD_XY: 457685.23800 5267610.31900
SECONDARY_NE_QUAD_XY: 462386.86700 5267578.14500
SECONDARY_SE_QUAD_XY: 462342.15300 5260632.14400
SECONDARY_SW_QUAD_XY: 457634.93500 5260664.32400
RMSE_XY: 2.11000
IMAGE_SOURCE: BLACK AND WHITE FILM
SOURCE_IMAGE_ID: NAPP 9094-041
SOURCE_IMAGE_DATE: 1996 7 9
SOURCE_DEM_DATE: 1999 0 0
AGENCY: WESTERN MAPPING CENTER (WMC)
PRODUCER: WOOLPERT LLP
PRODUCTION_SYSTEM: INTERGRAPH ISPM, ISIR
COMPRESSION: UNDEFINED
STANDARD_VERSION: 1996 12
METADATA_DATE: 2001 10 8
DATA_FILE_SIZE: 41034760
BYTE_COUNT: 5405
