FILENAME: O4710528.SWS.1165029.tif
QUADRANGLE_NAME: HUDIBURGH RESERVOIR SE
QUADRANT: SW
WEST_LONGITUDE: -105 37 30.00000
EAST_LONGITUDE: -105 33 45.00000
NORTH_LATITUDE: 47 33 45.00000
SOUTH_LATITUDE: 47 30 0.00000
PRODUCTION_DATE: 2001 10 8
RASTER_ORDER: LEFT_RIGHT/TOP_BOTTOM
BAND_ORGANIZATION: SINGLE FILE
BAND_CONTENT: BLACK&WHITE
BAND_CONTENT: UNDEFINED
BAND_CONTENT: UNDEFINED
BITS_PER_PIXEL: 8
SAMPLES_AND_LINES: 5410 7594
HORIZONTAL_DATUM: NAD83
HORIZONTAL_COORDINATE_SYSTEM: UTM
COORDINATE_ZONE: 13
HORIZONTAL_UNITS: meters
HORIZONTAL_RESOLUTION: 1.00000
SECONDARY_HORIZONTAL_DATUM: NAD27
XY_ORIGIN: 452582.00000 5268172.00000
SECONDARY_XY_ORIGIN: 452622.37700 5267951.88100
NATION: US
STATE: MT
NW_QUAD_CORNER_XY: 452985.07900 5267865.02800
NE_QUAD_CORNER_XY: 457686.55700 5267829.07000
SE_QUAD_CORNERY_XY: 457636.25400 5260883.05400
SW_QUAD_CORNER_XY: 452929.18600 5260919.01900
SECONDARY_NW_QUAD_XY: 452983.61300 5267646.27800
SECONDARY_NE_QUAD_XY: 457685.23800 5267610.31900
SECONDARY_SE_QUAD_XY: 457634.93500 5260664.32400
SECONDARY_SW_QUAD_XY: 452927.72000 5260700.29000
RMSE_XY: 2.04000
IMAGE_SOURCE: BLACK AND WHITE FILM
SOURCE_IMAGE_ID: NAPP 9105-179
SOURCE_IMAGE_DATE: 1996 8 1
SOURCE_DEM_DATE: 1999 0 0
AGENCY: WESTERN MAPPING CENTER (WMC)
PRODUCER: WOOLPERT LLP
PRODUCTION_SYSTEM: INTERGRAPH ISPM, ISIR
COMPRESSION: UNDEFINED
STANDARD_VERSION: 1996 12
METADATA_DATE: 2001 10 8
DATA_FILE_SIZE: 41088950
BYTE_COUNT: 5410
