FILENAME: O4710527.NWS.1165015.tif
QUADRANGLE_NAME: HAYNIE RESERVOIR
QUADRANT: NW
WEST_LONGITUDE: -105 45 0.00000
EAST_LONGITUDE: -105 41 15.00000
NORTH_LATITUDE: 47 37 30.00000
SOUTH_LATITUDE: 47 33 45.00000
PRODUCTION_DATE: 2001 10 10
RASTER_ORDER: LEFT_RIGHT/TOP_BOTTOM
BAND_ORGANIZATION: SINGLE FILE
BAND_CONTENT: BLACK&WHITE
BAND_CONTENT: UNDEFINED
BAND_CONTENT: UNDEFINED
BITS_PER_PIXEL: 8
SAMPLES_AND_LINES: 5417 7602
HORIZONTAL_DATUM: NAD83
HORIZONTAL_COORDINATE_SYSTEM: UTM
COORDINATE_ZONE: 13
HORIZONTAL_UNITS: meters
HORIZONTAL_RESOLUTION: 1.00000
SECONDARY_HORIZONTAL_DATUM: NAD27
XY_ORIGIN: 443234.00000 5275201.00000
SECONDARY_XY_ORIGIN: 443274.41700 5274980.82600
NATION: US
STATE: MT
NW_QUAD_CORNER_XY: 443649.27900 5274894.36900
NE_QUAD_CORNER_XY: 448345.15100 5274850.84800
SE_QUAD_CORNERY_XY: 448283.60600 5267904.77200
SW_QUAD_CORNER_XY: 443582.13900 5267948.30000
SECONDARY_NW_QUAD_XY: 443647.51900 5274675.60100
SECONDARY_NE_QUAD_XY: 448343.53800 5274632.07900
SECONDARY_SE_QUAD_XY: 448281.99400 5267686.02300
SECONDARY_SW_QUAD_XY: 443580.37900 5267729.55300
RMSE_XY: 2.18000
IMAGE_SOURCE: BLACK AND WHITE FILM
SOURCE_IMAGE_ID: NAPP 9086-200
SOURCE_IMAGE_DATE: 1996 6 13
SOURCE_DEM_DATE: 1999 0 0
AGENCY: WESTERN MAPPING CENTER (WMC)
PRODUCER: WOOLPERT LLP
PRODUCTION_SYSTEM: INTERGRAPH ISPM, ISIR
COMPRESSION: UNDEFINED
STANDARD_VERSION: 1996 12
METADATA_DATE: 2001 10 10
DATA_FILE_SIZE: 41185451
BYTE_COUNT: 5417
