FILENAME: O4710527.SES.1165016.tif
QUADRANGLE_NAME: HAYNIE RESERVOIR
QUADRANT: SE
WEST_LONGITUDE: -105 41 15.00000
EAST_LONGITUDE: -105 37 30.00000
NORTH_LATITUDE: 47 33 45.00000
SOUTH_LATITUDE: 47 30 0.00000
PRODUCTION_DATE: 2001 10 10
RASTER_ORDER: LEFT_RIGHT/TOP_BOTTOM
BAND_ORGANIZATION: SINGLE FILE
BAND_CONTENT: BLACK&WHITE
BAND_CONTENT: UNDEFINED
BAND_CONTENT: UNDEFINED
BITS_PER_PIXEL: 8
SAMPLES_AND_LINES: 5417 7598
HORIZONTAL_DATUM: NAD83
HORIZONTAL_COORDINATE_SYSTEM: UTM
COORDINATE_ZONE: 13
HORIZONTAL_UNITS: meters
HORIZONTAL_RESOLUTION: 1.00000
SECONDARY_HORIZONTAL_DATUM: NAD27
XY_ORIGIN: 447874.00000 5268212.00000
SECONDARY_XY_ORIGIN: 447914.43700 5267991.92000
NATION: US
STATE: MT
NW_QUAD_CORNER_XY: 448283.60600 5267904.77200
NE_QUAD_CORNER_XY: 452985.07900 5267865.02800
SE_QUAD_CORNERY_XY: 452929.18600 5260919.01900
SW_QUAD_CORNER_XY: 448222.12400 5260958.77000
SECONDARY_NW_QUAD_XY: 448281.99400 5267686.02300
SECONDARY_NE_QUAD_XY: 452983.61300 5267646.27800
SECONDARY_SE_QUAD_XY: 452927.72000 5260700.29000
SECONDARY_SW_QUAD_XY: 448220.51100 5260740.04200
RMSE_XY: 2.21000
IMAGE_SOURCE: BLACK AND WHITE FILM
SOURCE_IMAGE_ID: NAPP 9105-089
SOURCE_IMAGE_DATE: 1996 8 1
SOURCE_DEM_DATE: 1999 0 0
AGENCY: WESTERN MAPPING CENTER (WMC)
PRODUCER: WOOLPERT LLP
PRODUCTION_SYSTEM: INTERGRAPH ISPM, ISIR
COMPRESSION: UNDEFINED
STANDARD_VERSION: 1996 12
METADATA_DATE: 2001 10 10
DATA_FILE_SIZE: 41163783
BYTE_COUNT: 5417
