FILENAME: O4710527.SWS.1165017.tif
QUADRANGLE_NAME: HAYNIE RESERVOIR
QUADRANT: SW
WEST_LONGITUDE: -105 45 0.00000
EAST_LONGITUDE: -105 41 15.00000
NORTH_LATITUDE: 47 33 45.00000
SOUTH_LATITUDE: 47 30 0.00000
PRODUCTION_DATE: 2001 10 10
RASTER_ORDER: LEFT_RIGHT/TOP_BOTTOM
BAND_ORGANIZATION: SINGLE FILE
BAND_CONTENT: BLACK&WHITE
BAND_CONTENT: UNDEFINED
BAND_CONTENT: UNDEFINED
BITS_PER_PIXEL: 8
SAMPLES_AND_LINES: 5422 7602
HORIZONTAL_DATUM: NAD83
HORIZONTAL_COORDINATE_SYSTEM: UTM
COORDINATE_ZONE: 13
HORIZONTAL_UNITS: meters
HORIZONTAL_RESOLUTION: 1.00000
SECONDARY_HORIZONTAL_DATUM: NAD27
XY_ORIGIN: 443167.00000 5268255.00000
SECONDARY_XY_ORIGIN: 443207.49700 5268034.96100
NATION: US
STATE: MT
NW_QUAD_CORNER_XY: 443582.13900 5267948.30000
NE_QUAD_CORNER_XY: 448283.60600 5267904.77200
SE_QUAD_CORNERY_XY: 448222.12400 5260958.77000
SW_QUAD_CORNER_XY: 443515.06600 5261002.30700
SECONDARY_NW_QUAD_XY: 443580.37900 5267729.55300
SECONDARY_NE_QUAD_XY: 448281.99400 5267686.02300
SECONDARY_SE_QUAD_XY: 448220.51100 5260740.04200
SECONDARY_SW_QUAD_XY: 443513.30700 5260783.58100
RMSE_XY: 2.07000
IMAGE_SOURCE: BLACK AND WHITE FILM
SOURCE_IMAGE_ID: NAPP 9086-202
SOURCE_IMAGE_DATE: 1996 6 13
SOURCE_DEM_DATE: 1999 0 0
AGENCY: WESTERN MAPPING CENTER (WMC)
PRODUCER: WOOLPERT LLP
PRODUCTION_SYSTEM: INTERGRAPH ISPM, ISIR
COMPRESSION: UNDEFINED
STANDARD_VERSION: 1996 12
METADATA_DATE: 2001 10 10
DATA_FILE_SIZE: 41223466
BYTE_COUNT: 5422
