FILENAME: O4710526.NWS.1165003.tif
QUADRANGLE_NAME: NORTH FORK HORSE CREEK
QUADRANT: NW
WEST_LONGITUDE: -105 52 30.00000
EAST_LONGITUDE: -105 48 45.00000
NORTH_LATITUDE: 47 37 30.00000
SOUTH_LATITUDE: 47 33 45.00000
PRODUCTION_DATE: 2001 10 11
RASTER_ORDER: LEFT_RIGHT/TOP_BOTTOM
BAND_ORGANIZATION: SINGLE FILE
BAND_CONTENT: BLACK&WHITE
BAND_CONTENT: UNDEFINED
BAND_CONTENT: UNDEFINED
BITS_PER_PIXEL: 8
SAMPLES_AND_LINES: 5428 7610
HORIZONTAL_DATUM: NAD83
HORIZONTAL_COORDINATE_SYSTEM: UTM
COORDINATE_ZONE: 13
HORIZONTAL_UNITS: meters
HORIZONTAL_RESOLUTION: 1.00000
SECONDARY_HORIZONTAL_DATUM: NAD27
XY_ORIGIN: 433831.00000 5275300.00000
SECONDARY_XY_ORIGIN: 433871.51000 5275079.92600
NATION: US
STATE: MT
NW_QUAD_CORNER_XY: 434257.55300 5274992.76400
NE_QUAD_CORNER_XY: 438953.41300 5274941.67400
SE_QUAD_CORNERY_XY: 438880.67700 5267995.61500
SW_QUAD_CORNER_XY: 434179.22100 5268046.71400
SECONDARY_NW_QUAD_XY: 434255.50000 5274773.99900
SECONDARY_NE_QUAD_XY: 438951.50700 5274722.90700
SECONDARY_SE_QUAD_XY: 438878.77100 5267776.86900
SECONDARY_SW_QUAD_XY: 434177.16900 5267827.97000
RMSE_XY: 2.24000
IMAGE_SOURCE: BLACK AND WHITE FILM
SOURCE_IMAGE_ID: NAPP 11000-017
SOURCE_IMAGE_DATE: 1998 7 13
SOURCE_IMAGE_ID: NAPP 11000-018
SOURCE_IMAGE_DATE: 1998 7 13
SOURCE_IMAGE_ID: NAPP 9086-166
SOURCE_IMAGE_DATE: 1996 6 13
SOURCE_DEM_DATE: 1999 0 0
AGENCY: WESTERN MAPPING CENTER (WMC)
PRODUCER: WOOLPERT LLP
PRODUCTION_SYSTEM: INTERGRAPH ISPM, ISIR
COMPRESSION: UNDEFINED
STANDARD_VERSION: 1996 12
METADATA_DATE: 2001 10 20
DATA_FILE_SIZE: 41312508
BYTE_COUNT: 5428
