FILENAME: O4710525.NES.1164990.tif
QUADRANGLE_NAME: WELDON
QUADRANT: NE
WEST_LONGITUDE: -105 56 15.00000
EAST_LONGITUDE: -105 52 30.00000
NORTH_LATITUDE: 47 37 30.00000
SOUTH_LATITUDE: 47 33 45.00000
PRODUCTION_DATE: 2001 10 14
RASTER_ORDER: LEFT_RIGHT/TOP_BOTTOM
BAND_ORGANIZATION: SINGLE FILE
BAND_CONTENT: BLACK&WHITE
BAND_CONTENT: UNDEFINED
BAND_CONTENT: UNDEFINED
BITS_PER_PIXEL: 8
SAMPLES_AND_LINES: 5434 7613
HORIZONTAL_DATUM: NAD83
HORIZONTAL_COORDINATE_SYSTEM: UTM
COORDINATE_ZONE: 13
HORIZONTAL_UNITS: meters
HORIZONTAL_RESOLUTION: 1.00000
SECONDARY_HORIZONTAL_DATUM: NAD27
XY_ORIGIN: 429129.00000 5275354.00000
SECONDARY_XY_ORIGIN: 429169.55600 5275133.97700
NATION: US
STATE: MT
NW_QUAD_CORNER_XY: 429561.70100 5275047.63800
NE_QUAD_CORNER_XY: 434257.55300 5274992.76400
SE_QUAD_CORNERY_XY: 434179.22100 5268046.71400
SW_QUAD_CORNER_XY: 429477.77300 5268101.60000
SECONDARY_NW_QUAD_XY: 429559.50100 5274828.87600
SECONDARY_NE_QUAD_XY: 434255.50000 5274773.99900
SECONDARY_SE_QUAD_XY: 434177.16900 5267827.97000
SECONDARY_SW_QUAD_XY: 429475.57400 5267882.85700
RMSE_XY: 2.07000
IMAGE_SOURCE: BLACK AND WHITE FILM
SOURCE_IMAGE_ID: NAPP 9088-093
SOURCE_IMAGE_DATE: 1996 7 7
SOURCE_IMAGE_ID: NAPP 11000-018
SOURCE_IMAGE_DATE: 1998 7 13
SOURCE_DEM_DATE: 1999 0 0
AGENCY: WESTERN MAPPING CENTER (WMC)
PRODUCER: WOOLPERT LLP
PRODUCTION_SYSTEM: INTERGRAPH ISPM, ISIR
COMPRESSION: UNDEFINED
STANDARD_VERSION: 1996 12
METADATA_DATE: 2001 10 20
DATA_FILE_SIZE: 41374476
BYTE_COUNT: 5434
