FILENAME: O4710525.SWS.1164993.tif
QUADRANGLE_NAME: WELDON
QUADRANT: SW
WEST_LONGITUDE: -106 0 0.00000
EAST_LONGITUDE: -105 56 15.00000
NORTH_LATITUDE: 47 33 45.00000
SOUTH_LATITUDE: 47 30 0.00000
PRODUCTION_DATE: 2001 10 14
RASTER_ORDER: LEFT_RIGHT/TOP_BOTTOM
BAND_ORGANIZATION: SINGLE FILE
BAND_CONTENT: BLACK&WHITE
BAND_CONTENT: UNDEFINED
BAND_CONTENT: UNDEFINED
BITS_PER_PIXEL: 8
SAMPLES_AND_LINES: 5445 7617
HORIZONTAL_DATUM: NAD83
HORIZONTAL_COORDINATE_SYSTEM: UTM
COORDINATE_ZONE: 13
HORIZONTAL_UNITS: meters
HORIZONTAL_RESOLUTION: 1.00000
SECONDARY_HORIZONTAL_DATUM: NAD27
XY_ORIGIN: 424338.00000 5268467.00000
SECONDARY_XY_ORIGIN: 424378.72200 5268247.20300
NATION: US
STATE: MT
NW_QUAD_CORNER_XY: 424776.33200 5268160.27100
NE_QUAD_CORNER_XY: 429477.77300 5268101.60000
SE_QUAD_CORNERY_XY: 429393.93000 5261155.63500
SW_QUAD_CORNER_XY: 424686.89800 5261214.31800
SECONDARY_NW_QUAD_XY: 424773.98600 5267941.53100
SECONDARY_NE_QUAD_XY: 429475.57400 5267882.85700
SECONDARY_SE_QUAD_XY: 429391.73100 5260936.91400
SECONDARY_SW_QUAD_XY: 424684.55300 5260995.59800
RMSE_XY: 1.87000
IMAGE_SOURCE: BLACK AND WHITE FILM
SOURCE_IMAGE_ID: NAPP 9088-171
SOURCE_IMAGE_DATE: 1996 7 7
SOURCE_DEM_DATE: 1999 0 0
AGENCY: WESTERN MAPPING CENTER (WMC)
PRODUCER: WOOLPERT LLP
PRODUCTION_SYSTEM: INTERGRAPH ISPM, ISIR
COMPRESSION: UNDEFINED
STANDARD_VERSION: 1996 12
METADATA_DATE: 2001 10 14
DATA_FILE_SIZE: 41480010
BYTE_COUNT: 5445
