FILENAME: O4710523.NES.1165259.tif
QUADRANGLE_NAME: RICHEY NW
QUADRANT: NE
WEST_LONGITUDE: -105 11 15.00000
EAST_LONGITUDE: -105 7 30.00000
NORTH_LATITUDE: 47 45 0.00000
SOUTH_LATITUDE: 47 41 15.00000
PRODUCTION_DATE: 2001 10 1
RASTER_ORDER: LEFT_RIGHT/TOP_BOTTOM
BAND_ORGANIZATION: SINGLE FILE
BAND_CONTENT: BLACK&WHITE
BAND_CONTENT: UNDEFINED
BAND_CONTENT: UNDEFINED
BITS_PER_PIXEL: 8
SAMPLES_AND_LINES: 5353 7569
HORIZONTAL_DATUM: NAD83
HORIZONTAL_COORDINATE_SYSTEM: UTM
COORDINATE_ZONE: 13
HORIZONTAL_UNITS: meters
HORIZONTAL_RESOLUTION: 1.00000
SECONDARY_HORIZONTAL_DATUM: NAD27
XY_ORIGIN: 485583.00000 5288839.00000
SECONDARY_XY_ORIGIN: 485622.77100 5288618.41800
NATION: US
STATE: MT
NW_QUAD_CORNER_XY: 485945.90500 5288531.39300
NE_QUAD_CORNER_XY: 490630.60200 5288521.93600
SE_QUAD_CORNERY_XY: 490619.39000 5281575.66400
SW_QUAD_CORNER_XY: 485929.08700 5281585.12300
SECONDARY_NW_QUAD_XY: 485945.46500 5288312.57900
SECONDARY_NE_QUAD_XY: 490630.30900 5288303.12200
SECONDARY_SE_QUAD_XY: 490619.09700 5281356.86800
SECONDARY_SW_QUAD_XY: 485928.64700 5281366.32700
RMSE_XY: 2.50000
IMAGE_SOURCE: BLACK AND WHITE FILM
SOURCE_IMAGE_ID: NAPP 9103-191
SOURCE_IMAGE_DATE: 1996 7 15
SOURCE_DEM_DATE: 1999 0 0
AGENCY: WESTERN MAPPING CENTER (WMC)
PRODUCER: WOOLPERT LLP
PRODUCTION_SYSTEM: INTERGRAPH ISPM, ISIR
COMPRESSION: UNDEFINED
STANDARD_VERSION: 1996 12
METADATA_DATE: 2001 10 1
DATA_FILE_SIZE: 40522210
BYTE_COUNT: 5353
