FILENAME: O4710522.NES.1165247.tif
QUADRANGLE_NAME: BUFFALO CREEK NE
QUADRANT: NE
WEST_LONGITUDE: -105 18 45.00000
EAST_LONGITUDE: -105 15 0.00000
NORTH_LATITUDE: 47 45 0.00000
SOUTH_LATITUDE: 47 41 15.00000
PRODUCTION_DATE: 2001 10 2
RASTER_ORDER: LEFT_RIGHT/TOP_BOTTOM
BAND_ORGANIZATION: SINGLE FILE
BAND_CONTENT: BLACK&WHITE
BAND_CONTENT: UNDEFINED
BAND_CONTENT: UNDEFINED
BITS_PER_PIXEL: 8
SAMPLES_AND_LINES: 5365 7576
HORIZONTAL_DATUM: NAD83
HORIZONTAL_COORDINATE_SYSTEM: UTM
COORDINATE_ZONE: 13
HORIZONTAL_UNITS: meters
HORIZONTAL_RESOLUTION: 1.00000
SECONDARY_HORIZONTAL_DATUM: NAD27
XY_ORIGIN: 476202.00000 5288869.00000
SECONDARY_XY_ORIGIN: 476241.88300 5288648.44300
NATION: US
STATE: MT
NW_QUAD_CORNER_XY: 476576.51500 5288561.65400
NE_QUAD_CORNER_XY: 481261.20900 5288544.63200
SE_QUAD_CORNERY_XY: 481238.78500 5281598.36500
SW_QUAD_CORNER_XY: 476548.48500 5281615.39000
SECONDARY_NW_QUAD_XY: 476575.78200 5288342.84100
SECONDARY_NE_QUAD_XY: 481260.62300 5288325.81800
SECONDARY_SE_QUAD_XY: 481238.19800 5281379.57000
SECONDARY_SW_QUAD_XY: 476547.75200 5281396.59600
RMSE_XY: 2.75000
IMAGE_SOURCE: BLACK AND WHITE FILM
SOURCE_IMAGE_ID: NAPP 9116-177
SOURCE_IMAGE_DATE: 1996 8 27
SOURCE_IMAGE_ID: NAPP 9116-092
SOURCE_IMAGE_DATE: 1996 8 27
SOURCE_DEM_DATE: 1999 0 0
AGENCY: WESTERN MAPPING CENTER (WMC)
PRODUCER: WOOLPERT LLP
PRODUCTION_SYSTEM: INTERGRAPH ISPM, ISIR
COMPRESSION: UNDEFINED
STANDARD_VERSION: 1996 12
METADATA_DATE: 2001 10 8
DATA_FILE_SIZE: 40650605
BYTE_COUNT: 5365
