FILENAME: O4710522.SES.1165249.tif
QUADRANGLE_NAME: BUFFALO CREEK NE
QUADRANT: SE
WEST_LONGITUDE: -105 18 45.00000
EAST_LONGITUDE: -105 15 0.00000
NORTH_LATITUDE: 47 41 15.00000
SOUTH_LATITUDE: 47 37 30.00000
PRODUCTION_DATE: 2001 10 2
RASTER_ORDER: LEFT_RIGHT/TOP_BOTTOM
BAND_ORGANIZATION: SINGLE FILE
BAND_CONTENT: BLACK&WHITE
BAND_CONTENT: UNDEFINED
BAND_CONTENT: UNDEFINED
BITS_PER_PIXEL: 8
SAMPLES_AND_LINES: 5370 7576
HORIZONTAL_DATUM: NAD83
HORIZONTAL_COORDINATE_SYSTEM: UTM
COORDINATE_ZONE: 13
HORIZONTAL_UNITS: meters
HORIZONTAL_RESOLUTION: 1.00000
SECONDARY_HORIZONTAL_DATUM: NAD27
XY_ORIGIN: 476174.00000 5281923.00000
SECONDARY_XY_ORIGIN: 476213.94400 5281702.53400
NATION: US
STATE: MT
NW_QUAD_CORNER_XY: 476548.48500 5281615.39000
NE_QUAD_CORNER_XY: 481238.78500 5281598.36500
SE_QUAD_CORNERY_XY: 481216.38300 5274652.17300
SW_QUAD_CORNER_XY: 476520.48300 5274669.20200
SECONDARY_NW_QUAD_XY: 476547.75200 5281396.59600
SECONDARY_NE_QUAD_XY: 481238.19800 5281379.57000
SECONDARY_SE_QUAD_XY: 481215.79700 5274433.39800
SECONDARY_SW_QUAD_XY: 476519.75000 5274450.42800
RMSE_XY: 2.68000
IMAGE_SOURCE: BLACK AND WHITE FILM
SOURCE_IMAGE_ID: NAPP 9116-179
SOURCE_IMAGE_DATE: 1996 8 27
SOURCE_IMAGE_ID: NAPP 9116-180
SOURCE_IMAGE_DATE: 1996 8 27
SOURCE_IMAGE_ID: NAPP 9116-092
SOURCE_IMAGE_DATE: 1996 8 27
SOURCE_DEM_DATE: 1999 0 0
AGENCY: WESTERN MAPPING CENTER (WMC)
PRODUCER: WOOLPERT LLP
PRODUCTION_SYSTEM: INTERGRAPH ISPM, ISIR
COMPRESSION: UNDEFINED
STANDARD_VERSION: 1996 12
METADATA_DATE: 2001 10 8
DATA_FILE_SIZE: 40688490
BYTE_COUNT: 5370
