FILENAME: O4710522.SWS.1165250.tif
QUADRANGLE_NAME: BUFFALO CREEK NE
QUADRANT: SW
WEST_LONGITUDE: -105 22 30.00000
EAST_LONGITUDE: -105 18 45.00000
NORTH_LATITUDE: 47 41 15.00000
SOUTH_LATITUDE: 47 37 30.00000
PRODUCTION_DATE: 2001 10 2
RASTER_ORDER: LEFT_RIGHT/TOP_BOTTOM
BAND_ORGANIZATION: SINGLE FILE
BAND_CONTENT: BLACK&WHITE
BAND_CONTENT: UNDEFINED
BAND_CONTENT: UNDEFINED
BITS_PER_PIXEL: 8
SAMPLES_AND_LINES: 5376 7579
HORIZONTAL_DATUM: NAD83
HORIZONTAL_COORDINATE_SYSTEM: UTM
COORDINATE_ZONE: 13
HORIZONTAL_UNITS: meters
HORIZONTAL_RESOLUTION: 1.00000
SECONDARY_HORIZONTAL_DATUM: NAD27
XY_ORIGIN: 471478.00000 5281943.00000
SECONDARY_XY_ORIGIN: 471518.00400 5281722.55600
NATION: US
STATE: MT
NW_QUAD_CORNER_XY: 471858.18800 5281636.19900
NE_QUAD_CORNER_XY: 476548.48500 5281615.39000
SE_QUAD_CORNERY_XY: 476520.48300 5274669.20200
SW_QUAD_CORNER_XY: 471824.58500 5274690.01600
SECONDARY_NW_QUAD_XY: 471857.30800 5281417.40600
SECONDARY_NE_QUAD_XY: 476547.75200 5281396.59600
SECONDARY_SE_QUAD_XY: 476519.75000 5274450.42800
SECONDARY_SW_QUAD_XY: 471823.70500 5274471.24200
RMSE_XY: 2.64000
IMAGE_SOURCE: BLACK AND WHITE FILM
SOURCE_IMAGE_ID: NAPP 9116-091
SOURCE_IMAGE_DATE: 1996 8 27
SOURCE_IMAGE_ID: NAPP 9116-092
SOURCE_IMAGE_DATE: 1996 8 27
SOURCE_IMAGE_ID: NAPP 9116-090
SOURCE_IMAGE_DATE: 1996 8 27
SOURCE_DEM_DATE: 1999 0 0
AGENCY: WESTERN MAPPING CENTER (WMC)
PRODUCER: WOOLPERT LLP
PRODUCTION_SYSTEM: INTERGRAPH ISPM, ISIR
COMPRESSION: UNDEFINED
STANDARD_VERSION: 1996 12
METADATA_DATE: 2001 10 8
DATA_FILE_SIZE: 40750080
BYTE_COUNT: 5376
