FILENAME: O4710521.NES.1165235.tif
QUADRANGLE_NAME: BEERY RESERVOIR
QUADRANT: NE
WEST_LONGITUDE: -105 26 15.00000
EAST_LONGITUDE: -105 22 30.00000
NORTH_LATITUDE: 47 45 0.00000
SOUTH_LATITUDE: 47 41 15.00000
PRODUCTION_DATE: 2001 9 28
RASTER_ORDER: LEFT_RIGHT/TOP_BOTTOM
BAND_ORGANIZATION: SINGLE FILE
BAND_CONTENT: BLACK&WHITE
BAND_CONTENT: UNDEFINED
BAND_CONTENT: UNDEFINED
BITS_PER_PIXEL: 8
SAMPLES_AND_LINES: 5376 7583
HORIZONTAL_DATUM: NAD83
HORIZONTAL_COORDINATE_SYSTEM: UTM
COORDINATE_ZONE: 13
HORIZONTAL_UNITS: meters
HORIZONTAL_RESOLUTION: 1.00000
SECONDARY_HORIZONTAL_DATUM: NAD27
XY_ORIGIN: 466821.00000 5288914.00000
SECONDARY_XY_ORIGIN: 466861.00200 5288693.48000
NATION: US
STATE: MT
NW_QUAD_CORNER_XY: 467207.13600 5288607.04700
NE_QUAD_CORNER_XY: 471891.82400 5288582.45900
SE_QUAD_CORNERY_XY: 471858.18800 5281636.19900
SW_QUAD_CORNER_XY: 467167.89400 5281660.79200
SECONDARY_NW_QUAD_XY: 467206.11000 5288388.23500
SECONDARY_NE_QUAD_XY: 471890.94400 5288363.64700
SECONDARY_SE_QUAD_XY: 471857.30800 5281417.40600
SECONDARY_SW_QUAD_XY: 467166.86700 5281441.99900
RMSE_XY: 2.58000
IMAGE_SOURCE: BLACK AND WHITE FILM
SOURCE_IMAGE_ID: NAPP 9093-086
SOURCE_IMAGE_DATE: 1996 7 9
SOURCE_IMAGE_ID: NAPP 9093-087
SOURCE_IMAGE_DATE: 1996 7 9
SOURCE_DEM_DATE: 1999 0 0
AGENCY: WESTERN MAPPING CENTER (WMC)
PRODUCER: WOOLPERT LLP
PRODUCTION_SYSTEM: INTERGRAPH ISPM, ISIR
COMPRESSION: UNDEFINED
STANDARD_VERSION: 1996 12
METADATA_DATE: 2001 10 12
DATA_FILE_SIZE: 40771584
BYTE_COUNT: 5376
