FILENAME: O4710521.SES.1165237.tif
QUADRANGLE_NAME: BEERY RESERVOIR
QUADRANT: SE
WEST_LONGITUDE: -105 26 15.00000
EAST_LONGITUDE: -105 22 30.00000
NORTH_LATITUDE: 47 41 15.00000
SOUTH_LATITUDE: 47 37 30.00000
PRODUCTION_DATE: 2001 9 28
RASTER_ORDER: LEFT_RIGHT/TOP_BOTTOM
BAND_ORGANIZATION: SINGLE FILE
BAND_CONTENT: BLACK&WHITE
BAND_CONTENT: UNDEFINED
BAND_CONTENT: UNDEFINED
BITS_PER_PIXEL: 8
SAMPLES_AND_LINES: 5382 7583
HORIZONTAL_DATUM: NAD83
HORIZONTAL_COORDINATE_SYSTEM: UTM
COORDINATE_ZONE: 13
HORIZONTAL_UNITS: meters
HORIZONTAL_RESOLUTION: 1.00000
SECONDARY_HORIZONTAL_DATUM: NAD27
XY_ORIGIN: 466782.00000 5281968.00000
SECONDARY_XY_ORIGIN: 466822.06500 5281747.57800
NATION: US
STATE: MT
NW_QUAD_CORNER_XY: 467167.89400 5281660.79200
NE_QUAD_CORNER_XY: 471858.18800 5281636.19900
SE_QUAD_CORNERY_XY: 471824.58500 5274690.01600
SW_QUAD_CORNER_XY: 467128.69000 5274714.61300
SECONDARY_NW_QUAD_XY: 467166.86700 5281441.99900
SECONDARY_NE_QUAD_XY: 471857.30800 5281417.40600
SECONDARY_SE_QUAD_XY: 471823.70500 5274471.24200
SECONDARY_SW_QUAD_XY: 467127.66400 5274495.84000
RMSE_XY: 2.55000
IMAGE_SOURCE: BLACK AND WHITE FILM
SOURCE_IMAGE_ID: NAPP 9093-084
SOURCE_IMAGE_DATE: 1996 7 9
SOURCE_IMAGE_ID: NAPP 9093-083
SOURCE_IMAGE_DATE: 1996 7 9
SOURCE_DEM_DATE: 1999 0 0
AGENCY: WESTERN MAPPING CENTER (WMC)
PRODUCER: WOOLPERT LLP
PRODUCTION_SYSTEM: INTERGRAPH ISPM, ISIR
COMPRESSION: UNDEFINED
STANDARD_VERSION: 1996 12
METADATA_DATE: 2001 10 12
DATA_FILE_SIZE: 40817088
BYTE_COUNT: 5382
